BEGIN:VCALENDAR
VERSION:2.0
PRODID:-//Visit Chesham and villages - official website - ECPv6.15.20//NONSGML v1.0//EN
CALSCALE:GREGORIAN
METHOD:PUBLISH
X-WR-CALNAME:Visit Chesham and villages - official website
X-ORIGINAL-URL:https://visitchesham.org.uk
X-WR-CALDESC:Events for Visit Chesham and villages - official website
REFRESH-INTERVAL;VALUE=DURATION:PT1H
X-Robots-Tag:noindex
X-PUBLISHED-TTL:PT1H
BEGIN:VTIMEZONE
TZID:Europe/London
BEGIN:DAYLIGHT
TZOFFSETFROM:+0000
TZOFFSETTO:+0100
TZNAME:BST
DTSTART:20250330T010000
END:DAYLIGHT
BEGIN:STANDARD
TZOFFSETFROM:+0100
TZOFFSETTO:+0000
TZNAME:GMT
DTSTART:20251026T010000
END:STANDARD
BEGIN:DAYLIGHT
TZOFFSETFROM:+0000
TZOFFSETTO:+0100
TZNAME:BST
DTSTART:20260329T010000
END:DAYLIGHT
BEGIN:STANDARD
TZOFFSETFROM:+0100
TZOFFSETTO:+0000
TZNAME:GMT
DTSTART:20261025T010000
END:STANDARD
BEGIN:DAYLIGHT
TZOFFSETFROM:+0000
TZOFFSETTO:+0100
TZNAME:BST
DTSTART:20270328T010000
END:DAYLIGHT
BEGIN:STANDARD
TZOFFSETFROM:+0100
TZOFFSETTO:+0000
TZNAME:GMT
DTSTART:20271031T010000
END:STANDARD
END:VTIMEZONE
BEGIN:VEVENT
DTSTART;TZID=Europe/London:20261107T173000
DTEND;TZID=Europe/London:20261107T193000
DTSTAMP:20260421T230412
CREATED:20260209T203055Z
LAST-MODIFIED:20260209T203124Z
UID:10761-1794072600-1794079800@visitchesham.org.uk
SUMMARY:Fireworks by the Lake
DESCRIPTION:Fireworks by the Lake\, Saturday 7th November\, gates open at 5:30pm. With pulled pork bap and crisps. \n(End time is an estimate only by this website). \nMore information to follow on Restore Hope Events page \n 
URL:https://visitchesham.org.uk/events/fireworks-by-the-lake/
LOCATION:Restore Hope\, Latimer Park Farm\, Chesham\, Bucks\, HP5 1TU\, United Kingdom
CATEGORIES:Chesham
END:VEVENT
BEGIN:VEVENT
DTSTART;TZID=Europe/London:20261121T103000
DTEND;TZID=Europe/London:20261121T160000
DTSTAMP:20260421T230412
CREATED:20260119T124733Z
LAST-MODIFIED:20260119T125547Z
UID:10632-1795257000-1795276800@visitchesham.org.uk
SUMMARY:Elgiva Artisans & Chiltern Made Craft Fair 2026
DESCRIPTION:In association with Chiltern Made\, Elgiva Artisans are holding their 6th annual craft fair at The Elgiva\, Chesham on Saturday 21 November 2026.\nCelebrating locally-made original crafts and showcasing creative small businesses\, artisans and makers based in our beautiful Chilterns.\n\nThere will be stalls\, packed with art\, decorative items\, perfect presents and treats\, all made by talented local creatives and artists.\n\nAll welcome. Small entrance fee on the door.\nFind more information about the event nearer the time via Elgiva.com
URL:https://visitchesham.org.uk/events/elgiva-artisans-chiltern-made-craft-fair-2026/
LOCATION:The Elgiva\, St Mary's Way\, Chesham\, Bucks\, HP5 1HR\, United Kingdom
CATEGORIES:Chesham
ATTACH;FMTTYPE=image/jpeg:https://visitchesham.org.uk/wp-content/uploads/2026/01/chiltern-made-cropped.jpg
ORGANIZER;CN="The Elgiva":MAILTO:boxoffice@elgiva.com
END:VEVENT
BEGIN:VEVENT
DTSTART;TZID=Europe/London:20261128T100000
DTEND;TZID=Europe/London:20261128T140000
DTSTAMP:20260421T230412
CREATED:20260105T123646Z
LAST-MODIFIED:20260105T124156Z
UID:10478-1795860000-1795874400@visitchesham.org.uk
SUMMARY:Chesham Local Produce Market
DESCRIPTION:Chesham Local Produce Market takes place on the 4th Saturday of the month. \nOn sale are high quality food\, drink and crafts from approximately a 25 mile radius of Chesham. It’s held in the Market Square and the lower end of the High Street between 10am and 2pm.\nA fantastic opportunity to try local produce on your doorstep\, at your convenience\, and meet the people who make it! \nThe local produce market is run by Chesham Town Council in partnership with Sustainable Chesham. The market was set up to support local producers and reduce the food miles consumed by Chesham’s residents to help create a more sustainable community. \nIf you are a local producer and interested in attending\, please visit Chesham Town Council for information and contact details \n 
URL:https://visitchesham.org.uk/events/chesham-local-produce-market-november-2026/
LOCATION:Market Square\, Chesham\, HP5 1HG\, United Kingdom
CATEGORIES:Chesham
ATTACH;FMTTYPE=image/png:https://visitchesham.org.uk/wp-content/uploads/2023/04/Chesham-Local-Produce-Market-graphic-e1713281677112.png
END:VEVENT
BEGIN:VEVENT
DTSTART;TZID=Europe/London:20261129T100000
DTEND;TZID=Europe/London:20261129T160000
DTSTAMP:20260421T230412
CREATED:20260105T113211Z
LAST-MODIFIED:20260105T113211Z
UID:10459-1795946400-1795968000@visitchesham.org.uk
SUMMARY:Chesham Vintage Market
DESCRIPTION:Chesham Vintage Market in Chesham Market Square runs on the last Sunday of each month.\n10am–4pm.\nBooks\, games\, clothes\, records\, furniture\, jewellery\, homeware and collectables.\nPitches from £15.\n\nChesham Vintage Facebook page.\n\nEmail Chesham Vintage market to book a pitch.\n\n 
URL:https://visitchesham.org.uk/events/chesham-vintage-market-novembe-2026/
LOCATION:Market Square\, Chesham\, HP5 1HG\, United Kingdom
CATEGORIES:Chesham
ATTACH;FMTTYPE=image/jpeg:https://visitchesham.org.uk/wp-content/uploads/2026/01/chesham-vintage-market.jpg
END:VEVENT
END:VCALENDAR