BEGIN:VCALENDAR
VERSION:2.0
PRODID:-//Visit Chesham and villages - official website - ECPv6.15.20//NONSGML v1.0//EN
CALSCALE:GREGORIAN
METHOD:PUBLISH
X-ORIGINAL-URL:https://visitchesham.org.uk
X-WR-CALDESC:Events for Visit Chesham and villages - official website
REFRESH-INTERVAL;VALUE=DURATION:PT1H
X-Robots-Tag:noindex
X-PUBLISHED-TTL:PT1H
BEGIN:VTIMEZONE
TZID:Europe/London
BEGIN:DAYLIGHT
TZOFFSETFROM:+0000
TZOFFSETTO:+0100
TZNAME:BST
DTSTART:20240331T010000
END:DAYLIGHT
BEGIN:STANDARD
TZOFFSETFROM:+0100
TZOFFSETTO:+0000
TZNAME:GMT
DTSTART:20241027T010000
END:STANDARD
BEGIN:DAYLIGHT
TZOFFSETFROM:+0000
TZOFFSETTO:+0100
TZNAME:BST
DTSTART:20250330T010000
END:DAYLIGHT
BEGIN:STANDARD
TZOFFSETFROM:+0100
TZOFFSETTO:+0000
TZNAME:GMT
DTSTART:20251026T010000
END:STANDARD
BEGIN:DAYLIGHT
TZOFFSETFROM:+0000
TZOFFSETTO:+0100
TZNAME:BST
DTSTART:20260329T010000
END:DAYLIGHT
BEGIN:STANDARD
TZOFFSETFROM:+0100
TZOFFSETTO:+0000
TZNAME:GMT
DTSTART:20261025T010000
END:STANDARD
END:VTIMEZONE
BEGIN:VEVENT
DTSTART;TZID=Europe/London:20250601T100000
DTEND;TZID=Europe/London:20250601T120000
DTSTAMP:20260422T172236
CREATED:20250520T173255Z
LAST-MODIFIED:20250520T173445Z
UID:9670-1748772000-1748779200@visitchesham.org.uk
SUMMARY:Guided walk – River Chess
DESCRIPTION:The River Chess Association host monthly guided walks for free – join in and spot some local wildlife\, learn about chalk stream restoration and meet new people. \nThis month’s Sunday 1st June starting at the Water Meadow Car Park\, Chesham at 10am. The walk will be about 2 hours and will take in much of the recent work carried out on the Chess in Chesham. \nNo booking required\, free of charge. \nWater Meadow Car Park Location:\nNat Grid SP957013 / SP9578301360\nNearest Post Code HP5 1LP\nwhat3words shakes.kind.others \nLocation Reference \nNat Grid: SP958013 / SP9583401383 \nNearest Post Code: HP5 1LF \nFollow the River Chess Association Facebook page \n  \n 
URL:https://visitchesham.org.uk/events/guided-walk-river-chess-june-2025/
LOCATION:Water Meadow car park\, Brook Court\, Chesham\, Bucks\, HP5 1LF\, United Kingdom
CATEGORIES:Chesham
ATTACH;FMTTYPE=image/jpeg:https://visitchesham.org.uk/wp-content/uploads/2023/12/river-chess-near-queens-head-and-river-chess-association-logo.jpg
END:VEVENT
BEGIN:VEVENT
DTSTART;TZID=Europe/London:20250601T140000
DTEND;TZID=Europe/London:20250601T160000
DTSTAMP:20260422T172236
CREATED:20250530T160336Z
LAST-MODIFIED:20250530T164519Z
UID:9680-1748786400-1748793600@visitchesham.org.uk
SUMMARY:The Lee Old Church open afternoon
DESCRIPTION:A lovely opportunity to look in and learn about this beautiful old church tucked away in The Lee. Tea and cake available for donation. \nSunday\, 1 June\, 2-4pm.\nThe Lee\, Great Missenden HP16 9LZ
URL:https://visitchesham.org.uk/events/lee-old-church-open-afternoon/
LOCATION:The Old Church\, The Lee\, The Lee\, Bucks\, HP16 9LZ\, United Kingdom
CATEGORIES:Villages
ATTACH;FMTTYPE=image/jpeg:https://visitchesham.org.uk/wp-content/uploads/2025/05/IMG_8087-scaled.jpeg
END:VEVENT
BEGIN:VEVENT
DTSTART;TZID=Europe/London:20250607T100000
DTEND;TZID=Europe/London:20250622T170000
DTSTAMP:20260422T172236
CREATED:20240103T125935Z
LAST-MODIFIED:20250602T212400Z
UID:5845-1749290400-1750611600@visitchesham.org.uk
SUMMARY:Bucks Art Weeks 2025
DESCRIPTION:Bucks Art Weeks 2025 will take place from 7 June to 22 June across Buckinghamshire. \nIn Chesham artists and makers across pop-up exhibitions in working studios\, galleries and other venues in and around the town. \nWork on show includes painting\, glass\, jewellery\, painting\, ceramics and more for visitors to view\, purchase or commission. \nView and download the Bucks Art Weeks 2025 directory  \nDownload the Chesham and Amersham Bucks Art Weeks trail \nFind visitor info on Bucks Art Weeks website 2025 \n  \n  \n 
URL:https://visitchesham.org.uk/events/bucks-art-weeks-june-2025/
LOCATION:Bucks
CATEGORIES:Chesham,Villages
ATTACH;FMTTYPE=image/jpeg:https://visitchesham.org.uk/wp-content/uploads/2024/01/bucks-art-weeks.jpg
END:VEVENT
BEGIN:VEVENT
DTSTART;TZID=Europe/London:20250607T130000
DTEND;TZID=Europe/London:20250607T160000
DTSTAMP:20260422T172236
CREATED:20250416T032707Z
LAST-MODIFIED:20250606T091808Z
UID:9572-1749301200-1749312000@visitchesham.org.uk
SUMMARY:Ashley Green Village Fair
DESCRIPTION:A fun afternoon for all the family in Ashley Green. Popular annual village fair on the green. All welcome – do come along and support the village. \nClassic car show\, BBQ and bar\, WI cake stall\, kids races\, fun dog show\, Choir on the Green\, stalls and more. Saturday 7 June\, 1pm – 4pm \nPlease contact the organiser for any enquiries.
URL:https://visitchesham.org.uk/events/ashley-green-village-fair-2025/
LOCATION:Ashley Green\, Ashley Green\, Bucks\, United Kingdom
CATEGORIES:Villages
ATTACH;FMTTYPE=image/jpeg:https://visitchesham.org.uk/wp-content/uploads/2025/04/IMG_7166.jpeg
END:VEVENT
BEGIN:VEVENT
DTSTART;TZID=Europe/London:20250614T220000
DTEND;TZID=Europe/London:20250615T003000
DTSTAMP:20260422T172236
CREATED:20250601T201740Z
LAST-MODIFIED:20250601T201740Z
UID:9745-1749938400-1749947400@visitchesham.org.uk
SUMMARY:Midnight Swim at Chesham Moor
DESCRIPTION:The midsummer midnight swim at Chesham’s heated outdoor pool is a popular annual event. \nSwim under the stars on Saturday 14 June\, 10pm–12.30am. \n£15 for swim + food* / vegan hot dog + drink.\n£10 for swim only. \n*Keeping it local with sausages from Gerry Martin’s butchers & rolls from Darvell’s Bakery. \nVegan option available.\nThe event will only be cancelled if there’s thunder or lightning. \nMembers and non-members welcome.\nPlease book in advance at Chesham Moor reception in person\, or call 01494 77697 \n 
URL:https://visitchesham.org.uk/events/midnight-swim-chesham-moor/
LOCATION:Chesham Moor\, Moor Road\, Chesham\, Bucks\, HP5 1SE\, United Kingdom
CATEGORIES:Chesham
ATTACH;FMTTYPE=image/jpeg:https://visitchesham.org.uk/wp-content/uploads/2025/06/midnight-swim-2025-fb-post.jpg
END:VEVENT
BEGIN:VEVENT
DTSTART;TZID=Europe/London:20250620T190000
DTEND;TZID=Europe/London:20250620T230000
DTSTAMP:20260422T172236
CREATED:20250604T212632Z
LAST-MODIFIED:20250604T213916Z
UID:9788-1750446000-1750460400@visitchesham.org.uk
SUMMARY:Pride Disco at The Elgiva
DESCRIPTION:Celebrate love\, unity and glittering beats at our fabulous Pride Disco – all are welcome for a night of joy\, dancing and rainbow vibes! \nEmbrace Pride in true camp fashion at The Elgiva. Expect glitter\, anthems\, drag and dancefloor magic. \nDress to express! \n\n\n\n\nDoors open: 7pm\nDJ: 8pm – 11pm \n\n\n\n\nFeaturing top sets from QVEENS! \nHailed by the Ibiza Underground as a “face to watch in 2023”\, DJ QVEENS\, is “one of the defining global electronic acts of our time”. \nDetails and tickets
URL:https://visitchesham.org.uk/events/elgiva-pride-disco/
LOCATION:The Elgiva\, St Mary's Way\, Chesham\, Bucks\, HP5 1HR\, United Kingdom
CATEGORIES:Chesham
ATTACH;FMTTYPE=image/jpeg:https://visitchesham.org.uk/wp-content/uploads/2025/06/IMG_8198.jpeg
ORGANIZER;CN="The Elgiva":MAILTO:boxoffice@elgiva.com
END:VEVENT
BEGIN:VEVENT
DTSTART;TZID=Europe/London:20250622T100000
DTEND;TZID=Europe/London:20250622T160000
DTSTAMP:20260422T172236
CREATED:20250530T165118Z
LAST-MODIFIED:20250531T071754Z
UID:9701-1750586400-1750608000@visitchesham.org.uk
SUMMARY:Chesham Vintage Market
DESCRIPTION:New market in Chesham’s Market Square on Sundays. 22 June\, 6 July and 20 July.\n10am–4pm.\nBooks\, games\, clothes\, records\, furniture\, jeweleery\, homeware and collectables.\nPitches from £15.\nEmail Chesham Vintage market to book a pitch.
URL:https://visitchesham.org.uk/events/chesham-vintage-market-22-june/
LOCATION:Market Square\, Chesham\, HP5 1HG\, United Kingdom
CATEGORIES:Chesham
ATTACH;FMTTYPE=image/jpeg:https://visitchesham.org.uk/wp-content/uploads/2025/05/chesham-vintage-market.jpg
END:VEVENT
BEGIN:VEVENT
DTSTART;TZID=Europe/London:20250628T100000
DTEND;TZID=Europe/London:20250628T140000
DTSTAMP:20260422T172236
CREATED:20250105T173104Z
LAST-MODIFIED:20250105T173104Z
UID:9106-1751104800-1751119200@visitchesham.org.uk
SUMMARY:Chesham Local Produce Market
DESCRIPTION:Chesham Local Produce Market runs on the fourth Saturday of every month. On sale are high quality food\, drink and crafts from approximately a 25 mile radius of Chesham. It’s held in the Market Square and the lower end of the High Street between 10am and 2pm. A fantastic opportunity to try local produce on your doorstep\, at your convenience\, and meet the people who make it! \nChesham Local Produce Market dates for 2025\n\nJanuary 25\nFebruary 22\nMarch 22\nApril 26\nMay 24\nJune 28\nJuly 26\nAugust 23\nSeptember 27\nOctober 25\nNovember 22\nDecember  20\n\nThe local produce market is run by Chesham Town Council in partnership with Sustainable Chesham. The market was set up to support local producers and reduce the food miles consumed by Chesham’s residents to help create a more sustainable community. \nIf you are a local producer and interested in attending\, please email Colette Littley at Chesham Town Council  \n 
URL:https://visitchesham.org.uk/events/chesham-local-produce-market-2/
LOCATION:Market Square\, Chesham\, HP5 1HG\, United Kingdom
CATEGORIES:Chesham
ATTACH;FMTTYPE=image/png:https://visitchesham.org.uk/wp-content/uploads/2023/04/Chesham-Local-Produce-Market-graphic-e1713281677112.png
END:VEVENT
BEGIN:VEVENT
DTSTART;TZID=Europe/London:20250628T120000
DTEND;TZID=Europe/London:20250628T160000
DTSTAMP:20260422T172236
CREATED:20250301T131603Z
LAST-MODIFIED:20250602T213152Z
UID:6510-1751112000-1751126400@visitchesham.org.uk
SUMMARY:Bellingdon & Asheridge Fete
DESCRIPTION:Saturday 28 June\, 12pm–4pm. \nThe Bellingdon and Asheridge village fête is a great fun day out for the whole family. \nAs well as a range of traditional games stalls and activities\, there’s a classic car display and fun dog show. \nAlso barbecue\, bar\, ice creams and teas and cakes. \nBellingdon Village Hall\, HP5 2XU \nFree \nBellingdon is in the civil parish of Chartridge; one of the seven parishes covered by this website. \n 
URL:https://visitchesham.org.uk/events/bellingdon-asheridge-fete-2025/
LOCATION:Bellingdon Village Hall\, HP5 2XU
CATEGORIES:Villages
ATTACH;FMTTYPE=image/jpeg:https://visitchesham.org.uk/wp-content/uploads/2025/03/IMG_6161.jpeg
END:VEVENT
BEGIN:VEVENT
DTSTART;TZID=Europe/London:20250629T100000
DTEND;TZID=Europe/London:20250629T120000
DTSTAMP:20260422T172236
CREATED:20250624T210157Z
LAST-MODIFIED:20250624T210650Z
UID:9817-1751191200-1751198400@visitchesham.org.uk
SUMMARY:June guided walk – River Chess\, Restore Hope
DESCRIPTION:June’s guided walk with the River Chess Association is with special access to the Restore Hope private estate at Latimer.\n10am Sunday 29th June 2025. It is hoped to see signs of water voles and otters and well as a number birds and insects. \n\nA donation of £5 to Restore Hope is suggested to help them with their excellent work assisting the local community\, payable on the day in cash or through their web site.\n\n\nhttps://restorehopelatimer.org/donate/\n\n\n\nNo booking required\, children welcome but no dogs.\n\n\nThe location is Latimer Park\, off the Latimer Road between Bell Lane and Stoney Lane. Plenty of car parking available or the nearest transportation link is Chalfont and Latimer Station. About 1 mile walk\, see map.\n\n\nNat Grid SU993990 / SU9933899051\nNearest Post Code: HP5 1TS\nwhat3words: dust.solve.daring\n\nFollow the River Chess Association Facebook page \n  \n 
URL:https://visitchesham.org.uk/events/june-guided-walk-river-chess-restore-hope/
LOCATION:Restore Hope\, Latimer Park Farm\, Chesham\, Bucks\, HP5 1TU\, United Kingdom
CATEGORIES:Chesham
ATTACH;FMTTYPE=image/jpeg:https://visitchesham.org.uk/wp-content/uploads/2023/12/river-chess-near-queens-head-and-river-chess-association-logo.jpg
END:VEVENT
BEGIN:VEVENT
DTSTART;TZID=Europe/London:20250629T103000
DTEND;TZID=Europe/London:20250629T170000
DTSTAMP:20260422T172236
CREATED:20240805T092504Z
LAST-MODIFIED:20240805T104649Z
UID:7932-1751193000-1751216400@visitchesham.org.uk
SUMMARY:Chesham Motor Show 2025
DESCRIPTION:Chesham Motor Show will take place for its third sconsecutive year on Sunday 29 June 2025. A hugely popular event for exhibitors and attracting thousands of enthusiasts from far and wide.\n\nFollow Chesham Motor Show Facebook page for updates
URL:https://visitchesham.org.uk/events/chesham-motor-show-2025/
LOCATION:Pedestrianised High Street\, High Street\, Chesham\, Bucks\, HP5 1HG\, United Kingdom
CATEGORIES:Chesham
ATTACH;FMTTYPE=image/jpeg:https://visitchesham.org.uk/wp-content/uploads/2024/08/Chesham-Motor-Show-2025-event.jpg
END:VEVENT
END:VCALENDAR