BEGIN:VCALENDAR
VERSION:2.0
PRODID:-//Visit Chesham and villages - official website - ECPv6.15.20//NONSGML v1.0//EN
CALSCALE:GREGORIAN
METHOD:PUBLISH
X-WR-CALNAME:Visit Chesham and villages - official website
X-ORIGINAL-URL:https://visitchesham.org.uk
X-WR-CALDESC:Events for Visit Chesham and villages - official website
REFRESH-INTERVAL;VALUE=DURATION:PT1H
X-Robots-Tag:noindex
X-PUBLISHED-TTL:PT1H
BEGIN:VTIMEZONE
TZID:Europe/London
BEGIN:DAYLIGHT
TZOFFSETFROM:+0000
TZOFFSETTO:+0100
TZNAME:BST
DTSTART:20240331T010000
END:DAYLIGHT
BEGIN:STANDARD
TZOFFSETFROM:+0100
TZOFFSETTO:+0000
TZNAME:GMT
DTSTART:20241027T010000
END:STANDARD
BEGIN:DAYLIGHT
TZOFFSETFROM:+0000
TZOFFSETTO:+0100
TZNAME:BST
DTSTART:20250330T010000
END:DAYLIGHT
BEGIN:STANDARD
TZOFFSETFROM:+0100
TZOFFSETTO:+0000
TZNAME:GMT
DTSTART:20251026T010000
END:STANDARD
BEGIN:DAYLIGHT
TZOFFSETFROM:+0000
TZOFFSETTO:+0100
TZNAME:BST
DTSTART:20260329T010000
END:DAYLIGHT
BEGIN:STANDARD
TZOFFSETFROM:+0100
TZOFFSETTO:+0000
TZNAME:GMT
DTSTART:20261025T010000
END:STANDARD
END:VTIMEZONE
BEGIN:VEVENT
DTSTART;TZID=Europe/London:20250423T140000
DTEND;TZID=Europe/London:20250424T170000
DTSTAMP:20260422T130524
CREATED:20230430T133546Z
LAST-MODIFIED:20250113T122001Z
UID:4164-1745416800-1745514000@visitchesham.org.uk
SUMMARY:Tulip Festival Chenies
DESCRIPTION:Chenies Manor is well-known for its wonderful tulip displays\, andnthere are four opportunites in 2025 to attend the Tulip Festival. 23rd\, 24th\, 27th\, 30th April & 6th May. \nFrom their website “We are famous for our Tulips and the garden will be a blaze with our carefully thought-out colour combinations\, from mid-April right throughout May. \nWe have planted in excess of 25\,000 bulbs of many varieties\, varying designs and colour combinations. \nWhether you are looking for inspiration for pots or colour themes for your gardens\, Chenies Manor is well worth a visit at this time of year.” \nGates open: 2pm – Gates close: 5pm. \n\nWednesday 23 April\nThursday 24 April\nSunday 27 April\nTuesday 6 May\n\n\n\n\n\nBook in advance Chenies Manor House website \n\n\n  \n 
URL:https://visitchesham.org.uk/events/tulip-festival_2025-1/
LOCATION:Chenies Manor\, Chenies\, Rickmansworth\, WD3 6ER
CATEGORIES:Villages
ATTACH;FMTTYPE=image/jpeg:https://visitchesham.org.uk/wp-content/uploads/2023/04/chenies-manor-tulips.jpg
END:VEVENT
END:VCALENDAR