BEGIN:VCALENDAR
VERSION:2.0
PRODID:-//Visit Chesham and villages - official website - ECPv6.15.20//NONSGML v1.0//EN
CALSCALE:GREGORIAN
METHOD:PUBLISH
X-ORIGINAL-URL:https://visitchesham.org.uk
X-WR-CALDESC:Events for Visit Chesham and villages - official website
REFRESH-INTERVAL;VALUE=DURATION:PT1H
X-Robots-Tag:noindex
X-PUBLISHED-TTL:PT1H
BEGIN:VTIMEZONE
TZID:Europe/London
BEGIN:DAYLIGHT
TZOFFSETFROM:+0000
TZOFFSETTO:+0100
TZNAME:BST
DTSTART:20250330T010000
END:DAYLIGHT
BEGIN:STANDARD
TZOFFSETFROM:+0100
TZOFFSETTO:+0000
TZNAME:GMT
DTSTART:20251026T010000
END:STANDARD
BEGIN:DAYLIGHT
TZOFFSETFROM:+0000
TZOFFSETTO:+0100
TZNAME:BST
DTSTART:20260329T010000
END:DAYLIGHT
BEGIN:STANDARD
TZOFFSETFROM:+0100
TZOFFSETTO:+0000
TZNAME:GMT
DTSTART:20261025T010000
END:STANDARD
BEGIN:DAYLIGHT
TZOFFSETFROM:+0000
TZOFFSETTO:+0100
TZNAME:BST
DTSTART:20270328T010000
END:DAYLIGHT
BEGIN:STANDARD
TZOFFSETFROM:+0100
TZOFFSETTO:+0000
TZNAME:GMT
DTSTART:20271031T010000
END:STANDARD
END:VTIMEZONE
BEGIN:VEVENT
DTSTART;TZID=Europe/London:20261216T200000
DTEND;TZID=Europe/London:20261216T213000
DTSTAMP:20260421T153408
CREATED:20260131T193507Z
LAST-MODIFIED:20260131T193507Z
UID:10684-1797451200-1797456600@visitchesham.org.uk
SUMMARY:Chesham Town Carol Service 2026
DESCRIPTION:The Town Carol service will take place at 8pm\, Wednesday 16 December at St Mary’s Church\, Chesham. \nThere will be beautiful music and readings from members of the community. Everyone is welcome. \nRefreshments\, including mince pies\, will be served in the Church Rooms at the end of the service\, provided by voluntary group\, Fairtrade Chesham. \n7.30pm for 8pm start. End time is approximate. \nFree entry. \n\n  \n\n\n 
URL:https://visitchesham.org.uk/events/chesham-town-carol-service-2026/
LOCATION:St Mary’s Church\, Chesham\, HP5 1HY\, United Kingdom
CATEGORIES:Chesham
ATTACH;FMTTYPE=image/jpeg:https://visitchesham.org.uk/wp-content/uploads/2024/10/st-marys-christmas.jpg
END:VEVENT
END:VCALENDAR