BEGIN:VCALENDAR
VERSION:2.0
PRODID:-//Visit Chesham and villages - official website - ECPv6.15.20//NONSGML v1.0//EN
CALSCALE:GREGORIAN
METHOD:PUBLISH
X-ORIGINAL-URL:https://visitchesham.org.uk
X-WR-CALDESC:Events for Visit Chesham and villages - official website
REFRESH-INTERVAL;VALUE=DURATION:PT1H
X-Robots-Tag:noindex
X-PUBLISHED-TTL:PT1H
BEGIN:VTIMEZONE
TZID:Europe/London
BEGIN:DAYLIGHT
TZOFFSETFROM:+0000
TZOFFSETTO:+0100
TZNAME:BST
DTSTART:20250330T010000
END:DAYLIGHT
BEGIN:STANDARD
TZOFFSETFROM:+0100
TZOFFSETTO:+0000
TZNAME:GMT
DTSTART:20251026T010000
END:STANDARD
BEGIN:DAYLIGHT
TZOFFSETFROM:+0000
TZOFFSETTO:+0100
TZNAME:BST
DTSTART:20260329T010000
END:DAYLIGHT
BEGIN:STANDARD
TZOFFSETFROM:+0100
TZOFFSETTO:+0000
TZNAME:GMT
DTSTART:20261025T010000
END:STANDARD
BEGIN:DAYLIGHT
TZOFFSETFROM:+0000
TZOFFSETTO:+0100
TZNAME:BST
DTSTART:20270328T010000
END:DAYLIGHT
BEGIN:STANDARD
TZOFFSETFROM:+0100
TZOFFSETTO:+0000
TZNAME:GMT
DTSTART:20271031T010000
END:STANDARD
END:VTIMEZONE
BEGIN:VEVENT
DTSTART;TZID=Europe/London:20261206T193000
DTEND;TZID=Europe/London:20261206T213000
DTSTAMP:20260422T110318
CREATED:20260321T182525Z
LAST-MODIFIED:20260321T183549Z
UID:10928-1796585400-1796592600@visitchesham.org.uk
SUMMARY:Fayrfax Consort at The Lee Old Church
DESCRIPTION:A welcome return to The Lee Old Church of favourites The Fayrfax Consort.\nA joyous selection of festive choral music\, readings and traditional seasonal carols. \nSunday 6 December.7.30pm. \nEvent information and booking \n(End time shown is an estimate\, please check with organisers). \n \nThe Old Church is tucked away behind St John the Baptist Church in The Lee. \nHP16 9LZ
URL:https://visitchesham.org.uk/events/fayrfax-consort-at-the-lee-old-church/
LOCATION:The Old Church\, The Lee\, The Lee\, Bucks\, HP16 9LZ\, United Kingdom
CATEGORIES:Villages
ATTACH;FMTTYPE=image/jpeg:https://visitchesham.org.uk/wp-content/uploads/2026/03/old-church-the-lee-lit-up-fayrfax-concert.jpg
END:VEVENT
END:VCALENDAR