BEGIN:VCALENDAR
VERSION:2.0
PRODID:-//Visit Chesham and villages - official website - ECPv6.15.20//NONSGML v1.0//EN
CALSCALE:GREGORIAN
METHOD:PUBLISH
X-ORIGINAL-URL:https://visitchesham.org.uk
X-WR-CALDESC:Events for Visit Chesham and villages - official website
REFRESH-INTERVAL;VALUE=DURATION:PT1H
X-Robots-Tag:noindex
X-PUBLISHED-TTL:PT1H
BEGIN:VTIMEZONE
TZID:Europe/London
BEGIN:DAYLIGHT
TZOFFSETFROM:+0000
TZOFFSETTO:+0100
TZNAME:BST
DTSTART:20250330T010000
END:DAYLIGHT
BEGIN:STANDARD
TZOFFSETFROM:+0100
TZOFFSETTO:+0000
TZNAME:GMT
DTSTART:20251026T010000
END:STANDARD
BEGIN:DAYLIGHT
TZOFFSETFROM:+0000
TZOFFSETTO:+0100
TZNAME:BST
DTSTART:20260329T010000
END:DAYLIGHT
BEGIN:STANDARD
TZOFFSETFROM:+0100
TZOFFSETTO:+0000
TZNAME:GMT
DTSTART:20261025T010000
END:STANDARD
BEGIN:DAYLIGHT
TZOFFSETFROM:+0000
TZOFFSETTO:+0100
TZNAME:BST
DTSTART:20270328T010000
END:DAYLIGHT
BEGIN:STANDARD
TZOFFSETFROM:+0100
TZOFFSETTO:+0000
TZNAME:GMT
DTSTART:20271031T010000
END:STANDARD
END:VTIMEZONE
BEGIN:VEVENT
DTSTART;TZID=Europe/London:20261107T173000
DTEND;TZID=Europe/London:20261107T193000
DTSTAMP:20260422T124358
CREATED:20260209T203055Z
LAST-MODIFIED:20260209T203124Z
UID:10761-1794072600-1794079800@visitchesham.org.uk
SUMMARY:Fireworks by the Lake
DESCRIPTION:Fireworks by the Lake\, Saturday 7th November\, gates open at 5:30pm. With pulled pork bap and crisps. \n(End time is an estimate only by this website). \nMore information to follow on Restore Hope Events page \n 
URL:https://visitchesham.org.uk/events/fireworks-by-the-lake/
LOCATION:Restore Hope\, Latimer Park Farm\, Chesham\, Bucks\, HP5 1TU\, United Kingdom
CATEGORIES:Chesham
END:VEVENT
END:VCALENDAR