BEGIN:VCALENDAR
VERSION:2.0
PRODID:-//Visit Chesham and villages - official website - ECPv6.15.20//NONSGML v1.0//EN
CALSCALE:GREGORIAN
METHOD:PUBLISH
X-WR-CALNAME:Visit Chesham and villages - official website
X-ORIGINAL-URL:https://visitchesham.org.uk
X-WR-CALDESC:Events for Visit Chesham and villages - official website
REFRESH-INTERVAL;VALUE=DURATION:PT1H
X-Robots-Tag:noindex
X-PUBLISHED-TTL:PT1H
BEGIN:VTIMEZONE
TZID:Europe/London
BEGIN:DAYLIGHT
TZOFFSETFROM:+0000
TZOFFSETTO:+0100
TZNAME:BST
DTSTART:20250330T010000
END:DAYLIGHT
BEGIN:STANDARD
TZOFFSETFROM:+0100
TZOFFSETTO:+0000
TZNAME:GMT
DTSTART:20251026T010000
END:STANDARD
BEGIN:DAYLIGHT
TZOFFSETFROM:+0000
TZOFFSETTO:+0100
TZNAME:BST
DTSTART:20260329T010000
END:DAYLIGHT
BEGIN:STANDARD
TZOFFSETFROM:+0100
TZOFFSETTO:+0000
TZNAME:GMT
DTSTART:20261025T010000
END:STANDARD
BEGIN:DAYLIGHT
TZOFFSETFROM:+0000
TZOFFSETTO:+0100
TZNAME:BST
DTSTART:20270328T010000
END:DAYLIGHT
BEGIN:STANDARD
TZOFFSETFROM:+0100
TZOFFSETTO:+0000
TZNAME:GMT
DTSTART:20271031T010000
END:STANDARD
END:VTIMEZONE
BEGIN:VEVENT
DTSTART;TZID=Europe/London:20260419T140000
DTEND;TZID=Europe/London:20260504T170000
DTSTAMP:20260425T024646
CREATED:20260321T185457Z
LAST-MODIFIED:20260321T185539Z
UID:10940-1776607200-1777914000@visitchesham.org.uk
SUMMARY:Tulip Festival various dates
DESCRIPTION:Chenies Manor House and Gardens are famous for their tulips and the garden will be a blaze with our carefully thought-out colour combinations. Open on various dates between 19 April and 4 May. \nIn excess of 25\,000 bulbs of many varieties\, varying designs and colour combinations. \nOn some dates the tea room is also open – check dates for Tulip Festival and opening hours  \nGates open: 2pm – Gates close: 5pm. \n\n\n\nTulip Festival\, Chenies\, dates for 2026 \n\nTuesday 14 April\nSunday 19 April\nMonday 20 April\nWednesday 22 April\nThursday 23 April\nSunday 26 April\nMonday 27 April\nTuesday 28 April\n\n\n\n\n\n\nBook in advance Chenies Manor House website \n\n\n  \n 
URL:https://visitchesham.org.uk/events/tulip-festival-chenies-2026/
LOCATION:Chenies Manor\, Chenies\, Rickmansworth\, WD3 6ER
CATEGORIES:Villages
ATTACH;FMTTYPE=image/jpeg:https://visitchesham.org.uk/wp-content/uploads/2023/04/chenies-manor-tulips.jpg
END:VEVENT
BEGIN:VEVENT
DTSTART;TZID=Europe/London:20260425T100000
DTEND;TZID=Europe/London:20260425T140000
DTSTAMP:20260425T024646
CREATED:20251230T203447Z
LAST-MODIFIED:20251230T203452Z
UID:10407-1777111200-1777125600@visitchesham.org.uk
SUMMARY:Chesham Local Produce Market
DESCRIPTION:Chesham Local Produce Market takes place on the 4th Saturday of the month. \nOn sale are high quality food\, drink and crafts from approximately a 25 mile radius of Chesham. It’s held in the Market Square and the lower end of the High Street between 10am and 2pm.\nA fantastic opportunity to try local produce on your doorstep\, at your convenience\, and meet the people who make it! \nThe local produce market is run by Chesham Town Council in partnership with Sustainable Chesham. The market was set up to support local producers and reduce the food miles consumed by Chesham’s residents to help create a more sustainable community. \nIf you are a local producer and interested in attending\, please visit Chesham Town Council for information and contact details \n 
URL:https://visitchesham.org.uk/events/chesham-local-produce-market-april-26/
LOCATION:Market Square\, Chesham\, HP5 1HG\, United Kingdom
CATEGORIES:Chesham
ATTACH;FMTTYPE=image/png:https://visitchesham.org.uk/wp-content/uploads/2023/04/Chesham-Local-Produce-Market-graphic-e1713281677112.png
END:VEVENT
BEGIN:VEVENT
DTSTART;TZID=Europe/London:20260425T150000
DTEND;TZID=Europe/London:20260425T220000
DTSTAMP:20260425T024646
CREATED:20260424T141358Z
LAST-MODIFIED:20260424T141425Z
UID:11141-1777129200-1777154400@visitchesham.org.uk
SUMMARY:St George's Day in Market Square
DESCRIPTION:St George’s Day Celebration\n\nFrom Chesham Town council: \n“Traditional fun and community pride as Chesham comes alive to celebrate England’s patron saint. This celebration is taking place in partnership with the Chiltern North Scouts\, who will parade down the High Street to Market Square for 3pm in order to renew their Scouting Promise at the stage in Market Square. Why the Scouts? Because St George is their patron saint! \nThere will be Brit Pop themed music\, a free bouncy castle\, pizza and bars\, and fundraising activities run by the Scouts. Come along and join the fun!” \n\n\n\nThis is one of Chesham Town Councils’ Chesham Celebrates’ events.\n\n\n\nSee also the Chesham Town Council events calendar.
URL:https://visitchesham.org.uk/events/st-georges-day/
LOCATION:Market Square\, Chesham\, HP5 1HG\, United Kingdom
CATEGORIES:Chesham
ATTACH;FMTTYPE=image/png:https://visitchesham.org.uk/wp-content/uploads/2026/04/st-georges-Facebook-event-image.png
END:VEVENT
END:VCALENDAR