BEGIN:VCALENDAR
VERSION:2.0
PRODID:-//Visit Chesham and villages - official website - ECPv6.15.20//NONSGML v1.0//EN
CALSCALE:GREGORIAN
METHOD:PUBLISH
X-WR-CALNAME:Visit Chesham and villages - official website
X-ORIGINAL-URL:https://visitchesham.org.uk
X-WR-CALDESC:Events for Visit Chesham and villages - official website
REFRESH-INTERVAL;VALUE=DURATION:PT1H
X-Robots-Tag:noindex
X-PUBLISHED-TTL:PT1H
BEGIN:VTIMEZONE
TZID:Europe/London
BEGIN:DAYLIGHT
TZOFFSETFROM:+0000
TZOFFSETTO:+0100
TZNAME:BST
DTSTART:20240331T010000
END:DAYLIGHT
BEGIN:STANDARD
TZOFFSETFROM:+0100
TZOFFSETTO:+0000
TZNAME:GMT
DTSTART:20241027T010000
END:STANDARD
BEGIN:DAYLIGHT
TZOFFSETFROM:+0000
TZOFFSETTO:+0100
TZNAME:BST
DTSTART:20250330T010000
END:DAYLIGHT
BEGIN:STANDARD
TZOFFSETFROM:+0100
TZOFFSETTO:+0000
TZNAME:GMT
DTSTART:20251026T010000
END:STANDARD
BEGIN:DAYLIGHT
TZOFFSETFROM:+0000
TZOFFSETTO:+0100
TZNAME:BST
DTSTART:20260329T010000
END:DAYLIGHT
BEGIN:STANDARD
TZOFFSETFROM:+0100
TZOFFSETTO:+0000
TZNAME:GMT
DTSTART:20261025T010000
END:STANDARD
END:VTIMEZONE
BEGIN:VEVENT
DTSTART;TZID=Europe/London:20251204T123000
DTEND;TZID=Europe/London:20251231T180000
DTSTAMP:20260421T140110
CREATED:20250430T151308Z
LAST-MODIFIED:20250430T151308Z
UID:9646-1764851400-1767204000@visitchesham.org.uk
SUMMARY:Elgiva Pantomime – Jack and the Beanstalk
DESCRIPTION:Every year The Elgiva produces a fantastic original panto. This year it’ll be ‘Jack and the Beanstalk’ running from Thursday 4 December to Wednesday 31 January.. \nFrom The Elgiva: \n‘Climb into a fairy-tale world of towering beanstalks\, a magical land above the clouds and a daring boy who outwits a fearsome giant… \nJoin us this festive season at The Elgiva for our GIANT of a pantomime\, Jack and the Beanstalk! Prepare to be whisked away on a magical adventure filled with toe-tapping songs\, dazzling costumes and belly-laughs aplenty.’ \nThe Elgiva’s Jack in the Beanstalk pantomime details and book tickets  \n 
URL:https://visitchesham.org.uk/events/elgiva-pantomime-jack-and-the-beanstalk/
LOCATION:The Elgiva\, St Mary's Way\, Chesham\, Bucks\, HP5 1HR\, United Kingdom
CATEGORIES:Chesham
ATTACH;FMTTYPE=image/jpeg:https://visitchesham.org.uk/wp-content/uploads/2025/04/Panto_Jack-Beanstalk_elgiva-chesham-event.jpg
ORGANIZER;CN="The Elgiva":MAILTO:boxoffice@elgiva.com
END:VEVENT
BEGIN:VEVENT
DTSTART;TZID=Europe/London:20251228T100000
DTEND;TZID=Europe/London:20251228T130000
DTSTAMP:20260421T140110
CREATED:20251214T162843Z
LAST-MODIFIED:20251214T163756Z
UID:10332-1766916000-1766926800@visitchesham.org.uk
SUMMARY:Pednor 10 and Relay 2025
DESCRIPTION:The Pednor 10 Run and 2 x 5mile relay returns on 28th December 28th 2025 at 10am. \nThis is a very popular fixture and every year it attracts hundreds of entries from the local region and far beyond. \nAs with previous years the event is held at Chesham 1879 Tennis Club\, HP5 2JU.\nThere’s a 10 mile 2 lap race on undulating roads including a challenging hill and a 2 x 5 mile relay which has proved very popular. \nThe event this year will again be organised by Chiltern Harriers AC with Arctic One benefiting with 50% of the profits. \nThe event is usually a sell out so please enter as early as possible \n 
URL:https://visitchesham.org.uk/events/pednor-10-and-relay-december-2025/
LOCATION:Chesham 1879 Tennis & Squash Club\, Pednormead End\, Chesham\, HP5 2JU
CATEGORIES:Chesham
ATTACH;FMTTYPE=image/jpeg:https://visitchesham.org.uk/wp-content/uploads/2025/12/pednor-10-2025.jpg
END:VEVENT
BEGIN:VEVENT
DTSTART;TZID=Europe/London:20251228T100000
DTEND;TZID=Europe/London:20251228T130000
DTSTAMP:20260421T140110
CREATED:20251219T183243Z
LAST-MODIFIED:20251219T183341Z
UID:10344-1766916000-1766926800@visitchesham.org.uk
SUMMARY:Guided walk from Restore Hope
DESCRIPTION:River Chess Association are holding their Christmas Walk on Sunday 28th December meeting at Restore Hope Latimer at 10am.\n\n\nMap Location: See Map\n\n\nNat Grid: SU997985 / SU9973298545\nNearest Post Code: HP5 1TU\nwhat3words: cling.bake.award\n\n\nThe walk will start in the Restore Hope Estate follow the Little Chess and then join the Chess Valley Walk and then onto Chesham.\nThe plan is to take the train back from Chesham to Chalfont and Latimer Station and then a short walk back to the Restore Hope Car Park.\n\n\nA donation of £5 to Restore Hope for the use of their car park and access to their wonderful Estate.\n\n\nThe walk should take about 3 hours including the train journey. It is easy terrain. No booking required.\n\nJoin the River Chess Association for monthly guided walks along the River Chess in Chesham. Spot some local wildlife\, learn about chalk stream restoration and meet new people. \nWalks are usually on the last Sunday of the month\, taking in different sections and aspects of the River Chess. \nStart time: 10am. \nFollow the River Chess Association Facebook page \n  \n 
URL:https://visitchesham.org.uk/events/guided-walk-river-chess-restore-hope-christmas/
LOCATION:Restore Hope\, Latimer Park Farm\, Chesham\, Bucks\, HP5 1TU\, United Kingdom
CATEGORIES:Chesham,Villages
ATTACH;FMTTYPE=image/jpeg:https://visitchesham.org.uk/wp-content/uploads/2023/12/river-chess-near-queens-head-and-river-chess-association-logo.jpg
END:VEVENT
END:VCALENDAR