BEGIN:VCALENDAR
VERSION:2.0
PRODID:-//Visit Chesham and villages - official website - ECPv6.15.20//NONSGML v1.0//EN
CALSCALE:GREGORIAN
METHOD:PUBLISH
X-ORIGINAL-URL:https://visitchesham.org.uk
X-WR-CALDESC:Events for Visit Chesham and villages - official website
REFRESH-INTERVAL;VALUE=DURATION:PT1H
X-Robots-Tag:noindex
X-PUBLISHED-TTL:PT1H
BEGIN:VTIMEZONE
TZID:Europe/London
BEGIN:DAYLIGHT
TZOFFSETFROM:+0000
TZOFFSETTO:+0100
TZNAME:BST
DTSTART:20240331T010000
END:DAYLIGHT
BEGIN:STANDARD
TZOFFSETFROM:+0100
TZOFFSETTO:+0000
TZNAME:GMT
DTSTART:20241027T010000
END:STANDARD
BEGIN:DAYLIGHT
TZOFFSETFROM:+0000
TZOFFSETTO:+0100
TZNAME:BST
DTSTART:20250330T010000
END:DAYLIGHT
BEGIN:STANDARD
TZOFFSETFROM:+0100
TZOFFSETTO:+0000
TZNAME:GMT
DTSTART:20251026T010000
END:STANDARD
BEGIN:DAYLIGHT
TZOFFSETFROM:+0000
TZOFFSETTO:+0100
TZNAME:BST
DTSTART:20260329T010000
END:DAYLIGHT
BEGIN:STANDARD
TZOFFSETFROM:+0100
TZOFFSETTO:+0000
TZNAME:GMT
DTSTART:20261025T010000
END:STANDARD
END:VTIMEZONE
BEGIN:VEVENT
DTSTART;TZID=Europe/London:20251204T123000
DTEND;TZID=Europe/London:20251231T180000
DTSTAMP:20260422T234113
CREATED:20250430T151308Z
LAST-MODIFIED:20250430T151308Z
UID:9646-1764851400-1767204000@visitchesham.org.uk
SUMMARY:Elgiva Pantomime – Jack and the Beanstalk
DESCRIPTION:Every year The Elgiva produces a fantastic original panto. This year it’ll be ‘Jack and the Beanstalk’ running from Thursday 4 December to Wednesday 31 January.. \nFrom The Elgiva: \n‘Climb into a fairy-tale world of towering beanstalks\, a magical land above the clouds and a daring boy who outwits a fearsome giant… \nJoin us this festive season at The Elgiva for our GIANT of a pantomime\, Jack and the Beanstalk! Prepare to be whisked away on a magical adventure filled with toe-tapping songs\, dazzling costumes and belly-laughs aplenty.’ \nThe Elgiva’s Jack in the Beanstalk pantomime details and book tickets  \n 
URL:https://visitchesham.org.uk/events/elgiva-pantomime-jack-and-the-beanstalk/
LOCATION:The Elgiva\, St Mary's Way\, Chesham\, Bucks\, HP5 1HR\, United Kingdom
CATEGORIES:Chesham
ATTACH;FMTTYPE=image/jpeg:https://visitchesham.org.uk/wp-content/uploads/2025/04/Panto_Jack-Beanstalk_elgiva-chesham-event.jpg
ORGANIZER;CN="The Elgiva":MAILTO:boxoffice@elgiva.com
END:VEVENT
BEGIN:VEVENT
DTSTART;TZID=Europe/London:20251220T100000
DTEND;TZID=Europe/London:20251220T140000
DTSTAMP:20260422T234113
CREATED:20250105T173547Z
LAST-MODIFIED:20250912T134138Z
UID:9124-1766224800-1766239200@visitchesham.org.uk
SUMMARY:Chesham Local Produce Market
DESCRIPTION:Chesham Local Produce Market will be on the third Saturday in December\, in time for those Christmas locally-produced goodies. \nOn sale are high quality food\, drink and crafts from approximately a 25 mile radius of Chesham. It’s held in the Market Square and the lower end of the High Street between 10am and 2pm. A fantastic opportunity to try local produce on your doorstep\, at your convenience\, and meet the people who make it! \n\nDecember  20\n\nThe local produce market is run by Chesham Town Council in partnership with Sustainable Chesham. The market was set up to support local producers and reduce the food miles consumed by Chesham’s residents to help create a more sustainable community. \nIf you are a local producer and interested in attending\, please visit Chesham Town Council for information and contact details \n 
URL:https://visitchesham.org.uk/events/chesham-local-produce-market-9/
LOCATION:Market Square\, Chesham\, HP5 1HG\, United Kingdom
CATEGORIES:Chesham
ATTACH;FMTTYPE=image/png:https://visitchesham.org.uk/wp-content/uploads/2025/01/chesham-local-produce-generic-and-christmas-event-image-.png
END:VEVENT
BEGIN:VEVENT
DTSTART;TZID=Europe/London:20251220T103000
DTEND;TZID=Europe/London:20251222T150000
DTSTAMP:20260422T234113
CREATED:20251107T084534Z
LAST-MODIFIED:20251107T084534Z
UID:10211-1766226600-1766415600@visitchesham.org.uk
SUMMARY:The Lost Elves
DESCRIPTION:This delightful\, interactive Christmas show sprinkles plenty of festive cheer for the whole family. \nThe Lost Elves \nJoin Tilly and Trixie on their very first mission as part of St Nick’s Elf Squad in this fun\, family-friendly show full of\nadventure\, songs and silliness. \nTilly and Trixie are on a mission to help deliver presents to the good people of Chesham; however\, they have\nrun into some trouble! \nAt The Little Theatre (managed by the Elgiva) 20-22 December\, with two performances per day at 10.30am and 1.30pm. \nBuy tickets for The Lost Elves via The Elgiva
URL:https://visitchesham.org.uk/events/lost-elves/
LOCATION:The Little Theatre in the Park\, Church Street\, Chesham\, HP5 1HU
CATEGORIES:Chesham
ATTACH;FMTTYPE=image/jpeg:https://visitchesham.org.uk/wp-content/uploads/2025/11/lost-elves-little-theatre-chesham.jpg
ORGANIZER;CN="The Elgiva":MAILTO:boxoffice@elgiva.com
END:VEVENT
BEGIN:VEVENT
DTSTART;TZID=Europe/London:20251220T190000
DTEND;TZID=Europe/London:20251220T190000
DTSTAMP:20260422T234113
CREATED:20251022T214554Z
LAST-MODIFIED:20251211T090524Z
UID:10163-1766257200-1766257200@visitchesham.org.uk
SUMMARY:Guilty Musical Pleasures Christmas Party **SOLD OUT**
DESCRIPTION:*change of venue now at Vault 17*\nGet down for the Night of Guilty Musical Pleasures Christmas Party at Vault 17.\nThis event is sold out. \nReturning for their popular annual Christmas spin at DJs Nooey\, Martin Freeman and Indie Phil will be spinning all those cheesy tunes from 70s\, 80s\, 90s and 00s’. \nSaturday 20 December\, 7pm–midnight.\nVault 17\, High Street\, Chesham. \nTicket info/join waiting list for Music to your Ears Christmas Party
URL:https://visitchesham.org.uk/events/guilty-musical-pleasures-christmas-party/
LOCATION:Vault 17\, 17 High Street\, Chesham\, Bucks\, HP5 1BG
CATEGORIES:Chesham
ATTACH;FMTTYPE=image/jpeg:https://visitchesham.org.uk/wp-content/uploads/2025/10/guilty-pleasures-christmas-party-vault-17.jpg
END:VEVENT
END:VCALENDAR