BEGIN:VCALENDAR
VERSION:2.0
PRODID:-//Visit Chesham and villages - official website - ECPv6.15.20//NONSGML v1.0//EN
CALSCALE:GREGORIAN
METHOD:PUBLISH
X-WR-CALNAME:Visit Chesham and villages - official website
X-ORIGINAL-URL:https://visitchesham.org.uk
X-WR-CALDESC:Events for Visit Chesham and villages - official website
REFRESH-INTERVAL;VALUE=DURATION:PT1H
X-Robots-Tag:noindex
X-PUBLISHED-TTL:PT1H
BEGIN:VTIMEZONE
TZID:Europe/London
BEGIN:DAYLIGHT
TZOFFSETFROM:+0000
TZOFFSETTO:+0100
TZNAME:BST
DTSTART:20240331T010000
END:DAYLIGHT
BEGIN:STANDARD
TZOFFSETFROM:+0100
TZOFFSETTO:+0000
TZNAME:GMT
DTSTART:20241027T010000
END:STANDARD
BEGIN:DAYLIGHT
TZOFFSETFROM:+0000
TZOFFSETTO:+0100
TZNAME:BST
DTSTART:20250330T010000
END:DAYLIGHT
BEGIN:STANDARD
TZOFFSETFROM:+0100
TZOFFSETTO:+0000
TZNAME:GMT
DTSTART:20251026T010000
END:STANDARD
BEGIN:DAYLIGHT
TZOFFSETFROM:+0000
TZOFFSETTO:+0100
TZNAME:BST
DTSTART:20260329T010000
END:DAYLIGHT
BEGIN:STANDARD
TZOFFSETFROM:+0100
TZOFFSETTO:+0000
TZNAME:GMT
DTSTART:20261025T010000
END:STANDARD
END:VTIMEZONE
BEGIN:VEVENT
DTSTART;TZID=Europe/London:20251204T123000
DTEND;TZID=Europe/London:20251231T180000
DTSTAMP:20260421T171426
CREATED:20250430T151308Z
LAST-MODIFIED:20250430T151308Z
UID:9646-1764851400-1767204000@visitchesham.org.uk
SUMMARY:Elgiva Pantomime – Jack and the Beanstalk
DESCRIPTION:Every year The Elgiva produces a fantastic original panto. This year it’ll be ‘Jack and the Beanstalk’ running from Thursday 4 December to Wednesday 31 January.. \nFrom The Elgiva: \n‘Climb into a fairy-tale world of towering beanstalks\, a magical land above the clouds and a daring boy who outwits a fearsome giant… \nJoin us this festive season at The Elgiva for our GIANT of a pantomime\, Jack and the Beanstalk! Prepare to be whisked away on a magical adventure filled with toe-tapping songs\, dazzling costumes and belly-laughs aplenty.’ \nThe Elgiva’s Jack in the Beanstalk pantomime details and book tickets  \n 
URL:https://visitchesham.org.uk/events/elgiva-pantomime-jack-and-the-beanstalk/
LOCATION:The Elgiva\, St Mary's Way\, Chesham\, Bucks\, HP5 1HR\, United Kingdom
CATEGORIES:Chesham
ATTACH;FMTTYPE=image/jpeg:https://visitchesham.org.uk/wp-content/uploads/2025/04/Panto_Jack-Beanstalk_elgiva-chesham-event.jpg
ORGANIZER;CN="The Elgiva":MAILTO:boxoffice@elgiva.com
END:VEVENT
BEGIN:VEVENT
DTSTART;TZID=Europe/London:20251214T100000
DTEND;TZID=Europe/London:20251214T160000
DTSTAMP:20260421T171426
CREATED:20250827T105907Z
LAST-MODIFIED:20250827T105907Z
UID:10019-1765706400-1765728000@visitchesham.org.uk
SUMMARY:Chesham Vintage Market
DESCRIPTION:Chesham Vintage Market in Chesham Market Square.\n10am–4pm.\nBooks\, games\, clothes\, records\, furniture\, jewellery\, homeware and collectables.\nPitches from £15.\n\nEmail Chesham Vintage market to book a pitch.\n\n 
URL:https://visitchesham.org.uk/events/chesham-vintage-market-dec-2025/
LOCATION:Market Square\, Chesham\, HP5 1HG\, United Kingdom
CATEGORIES:Chesham
ATTACH;FMTTYPE=image/jpeg:https://visitchesham.org.uk/wp-content/uploads/2025/05/chesham-vintage-market.jpg
END:VEVENT
BEGIN:VEVENT
DTSTART;TZID=Europe/London:20251214T121500
DTEND;TZID=Europe/London:20251214T124500
DTSTAMP:20260421T171426
CREATED:20251127T160206Z
LAST-MODIFIED:20251127T161402Z
UID:10278-1765714500-1765716300@visitchesham.org.uk
SUMMARY:Echor Music – Hilltop Bach\, The Lee
DESCRIPTION:Echor’s passion is to inspire our local communities by creating breathtaking musical experiences across the Chilterns. \nAt 12.15pm Sunday 14 December\, Echor continue their series of Hilltop Bach at St John the Baptist Church in The Lee. \nFeaturing regular Echor cellist\, Nathaniel Boyd performsalong with a light exploration of each movement and its significance. To top it all off\, Nathaniel intends to combine his work as both a visual artist and cellist by exhibiting a new painting inspired by each suite at the performances.  \nThese mini-recitals are free and will last around 30 minutes each.  \n\nView Echor Music events \nSt John the Baptist Church\, The Lee\nHP16 9LZ
URL:https://visitchesham.org.uk/events/echor-music-the-lee-14-december/
LOCATION:St John the Baptist\, The Lee\, Bucks\, HP16 9LZ
CATEGORIES:Villages
ATTACH;FMTTYPE=image/jpeg:https://visitchesham.org.uk/wp-content/uploads/2025/11/hilltop-bach-echor-music-the-lee.jpg
END:VEVENT
BEGIN:VEVENT
DTSTART;TZID=Europe/London:20251214T193000
DTEND;TZID=Europe/London:20251214T213000
DTSTAMP:20260421T171426
CREATED:20251211T075430Z
LAST-MODIFIED:20251211T075827Z
UID:10302-1765740600-1765747800@visitchesham.org.uk
SUMMARY:Damon Singers – Christmas Concert
DESCRIPTION:The Damon Singers have been a choir for Chesham since 1957. Their next event\, “What Cheer!” will be a joyful Christmas carol concert\, Sunday 14 December 2024 at 7.30pm\, White Hill Centre\, Chesham.\n\nMince pies with mulled wine or soft drinks are included in the ticket price.\nTickets available from Perfect Pitch in Chesham or call 07747 455704.\nEnd time shown is an estimate\, please check with organisers.\nMore information on Damon Singers website \n  \n  \n 
URL:https://visitchesham.org.uk/events/damon-singers-christmas-concert-2025/
LOCATION:White Hill Centre\, White Hill\, Chesham\, Bucks\, HP5 1AG\, United Kingdom
CATEGORIES:Chesham
ATTACH;FMTTYPE=image/jpeg:https://visitchesham.org.uk/wp-content/uploads/2025/12/IMG_2377.jpeg
END:VEVENT
END:VCALENDAR