BEGIN:VCALENDAR
VERSION:2.0
PRODID:-//Visit Chesham and villages - official website - ECPv6.15.20//NONSGML v1.0//EN
CALSCALE:GREGORIAN
METHOD:PUBLISH
X-ORIGINAL-URL:https://visitchesham.org.uk
X-WR-CALDESC:Events for Visit Chesham and villages - official website
REFRESH-INTERVAL;VALUE=DURATION:PT1H
X-Robots-Tag:noindex
X-PUBLISHED-TTL:PT1H
BEGIN:VTIMEZONE
TZID:Europe/London
BEGIN:DAYLIGHT
TZOFFSETFROM:+0000
TZOFFSETTO:+0100
TZNAME:BST
DTSTART:20240331T010000
END:DAYLIGHT
BEGIN:STANDARD
TZOFFSETFROM:+0100
TZOFFSETTO:+0000
TZNAME:GMT
DTSTART:20241027T010000
END:STANDARD
BEGIN:DAYLIGHT
TZOFFSETFROM:+0000
TZOFFSETTO:+0100
TZNAME:BST
DTSTART:20250330T010000
END:DAYLIGHT
BEGIN:STANDARD
TZOFFSETFROM:+0100
TZOFFSETTO:+0000
TZNAME:GMT
DTSTART:20251026T010000
END:STANDARD
BEGIN:DAYLIGHT
TZOFFSETFROM:+0000
TZOFFSETTO:+0100
TZNAME:BST
DTSTART:20260329T010000
END:DAYLIGHT
BEGIN:STANDARD
TZOFFSETFROM:+0100
TZOFFSETTO:+0000
TZNAME:GMT
DTSTART:20261025T010000
END:STANDARD
END:VTIMEZONE
BEGIN:VEVENT
DTSTART;TZID=Europe/London:20251203T163000
DTEND;TZID=Europe/London:20251206T200000
DTSTAMP:20260422T073754
CREATED:20251111T134436Z
LAST-MODIFIED:20251111T134518Z
UID:10219-1764779400-1765051200@visitchesham.org.uk
SUMMARY:Nativity Light Trail\, Restore Hope
DESCRIPTION:Restore Hope is in one of the most spectacular parts of the Chess Valley. \nThis year the Nativity Light Trail is open from 26th–29th November and 3rd–6th December .\nBring your friends and family for the perfect way to start the Christmas season.\nBook your tickets for the Nativity Light Trail
URL:https://visitchesham.org.uk/events/nativity-light-trail-restore-hope-dec/
LOCATION:Restore Hope\, Latimer Park Farm\, Chesham\, Bucks\, HP5 1TU\, United Kingdom
CATEGORIES:Villages
ATTACH;FMTTYPE=image/jpeg:https://visitchesham.org.uk/wp-content/uploads/2025/10/IMG_1602.jpeg
END:VEVENT
BEGIN:VEVENT
DTSTART;TZID=Europe/London:20251204T123000
DTEND;TZID=Europe/London:20251231T180000
DTSTAMP:20260422T073754
CREATED:20250430T151308Z
LAST-MODIFIED:20250430T151308Z
UID:9646-1764851400-1767204000@visitchesham.org.uk
SUMMARY:Elgiva Pantomime – Jack and the Beanstalk
DESCRIPTION:Every year The Elgiva produces a fantastic original panto. This year it’ll be ‘Jack and the Beanstalk’ running from Thursday 4 December to Wednesday 31 January.. \nFrom The Elgiva: \n‘Climb into a fairy-tale world of towering beanstalks\, a magical land above the clouds and a daring boy who outwits a fearsome giant… \nJoin us this festive season at The Elgiva for our GIANT of a pantomime\, Jack and the Beanstalk! Prepare to be whisked away on a magical adventure filled with toe-tapping songs\, dazzling costumes and belly-laughs aplenty.’ \nThe Elgiva’s Jack in the Beanstalk pantomime details and book tickets  \n 
URL:https://visitchesham.org.uk/events/elgiva-pantomime-jack-and-the-beanstalk/
LOCATION:The Elgiva\, St Mary's Way\, Chesham\, Bucks\, HP5 1HR\, United Kingdom
CATEGORIES:Chesham
ATTACH;FMTTYPE=image/jpeg:https://visitchesham.org.uk/wp-content/uploads/2025/04/Panto_Jack-Beanstalk_elgiva-chesham-event.jpg
ORGANIZER;CN="The Elgiva":MAILTO:boxoffice@elgiva.com
END:VEVENT
BEGIN:VEVENT
DTSTART;TZID=Europe/London:20251206T190000
DTEND;TZID=Europe/London:20251206T210000
DTSTAMP:20260422T073754
CREATED:20251028T111642Z
LAST-MODIFIED:20251028T111642Z
UID:10180-1765047600-1765054800@visitchesham.org.uk
SUMMARY:Firth Singers – Christmas Cheer
DESCRIPTION:Chilterns-based choir The Firth Singers  invite you to an evening performance of seasonal carols and festive music!\nTraditional carols and music by local composer Simon Beattie and more.\nThey will be joined by the wonderful Ukrainian Nightingale’s Choir. \nSt Mary’s Church\, Chesham on Saturday 6 December at 7.00pm.\n£17.50 adults. £7 students. Unders 18s free. \nFor enquiries and tickets please email The Firth Singers \nAbout The Firth Singers\nThe Firth Singers is an auditioned choir founded over a decade ago by conductor Fiona Firth. The choir performs regular concerts across the Chilterns and beyond. Programmes feature a mixture of choral and solo music spanning the centuries. \nEvents on Firth Singers website
URL:https://visitchesham.org.uk/events/firth-singers-christmas-cheer/
LOCATION:St Mary’s Church\, Chesham\, HP5 1HY\, United Kingdom
CATEGORIES:Chesham
ATTACH;FMTTYPE=image/jpeg:https://visitchesham.org.uk/wp-content/uploads/2025/10/firth-singers-christmas-cheer.jpg
END:VEVENT
END:VCALENDAR