BEGIN:VCALENDAR
VERSION:2.0
PRODID:-//Visit Chesham and villages - official website - ECPv6.15.20//NONSGML v1.0//EN
CALSCALE:GREGORIAN
METHOD:PUBLISH
X-WR-CALNAME:Visit Chesham and villages - official website
X-ORIGINAL-URL:https://visitchesham.org.uk
X-WR-CALDESC:Events for Visit Chesham and villages - official website
REFRESH-INTERVAL;VALUE=DURATION:PT1H
X-Robots-Tag:noindex
X-PUBLISHED-TTL:PT1H
BEGIN:VTIMEZONE
TZID:Europe/London
BEGIN:DAYLIGHT
TZOFFSETFROM:+0000
TZOFFSETTO:+0100
TZNAME:BST
DTSTART:20240331T010000
END:DAYLIGHT
BEGIN:STANDARD
TZOFFSETFROM:+0100
TZOFFSETTO:+0000
TZNAME:GMT
DTSTART:20241027T010000
END:STANDARD
BEGIN:DAYLIGHT
TZOFFSETFROM:+0000
TZOFFSETTO:+0100
TZNAME:BST
DTSTART:20250330T010000
END:DAYLIGHT
BEGIN:STANDARD
TZOFFSETFROM:+0100
TZOFFSETTO:+0000
TZNAME:GMT
DTSTART:20251026T010000
END:STANDARD
BEGIN:DAYLIGHT
TZOFFSETFROM:+0000
TZOFFSETTO:+0100
TZNAME:BST
DTSTART:20260329T010000
END:DAYLIGHT
BEGIN:STANDARD
TZOFFSETFROM:+0100
TZOFFSETTO:+0000
TZNAME:GMT
DTSTART:20261025T010000
END:STANDARD
END:VTIMEZONE
BEGIN:VEVENT
DTSTART;TZID=Europe/London:20251130T100000
DTEND;TZID=Europe/London:20251130T120000
DTSTAMP:20260421T183135
CREATED:20251127T141603Z
LAST-MODIFIED:20251127T141645Z
UID:10252-1764496800-1764504000@visitchesham.org.uk
SUMMARY:Guided walk – River Chess
DESCRIPTION:The River Chess Association host monthly guided walks for free – join in and spot some local wildlife\, learn about chalk stream restoration and meet new people. \nThis month’s walk  is on Sunday 30th November\, 10am\, starting at the car park adjacent Chesham Moor sports centre and cafe. (\nIt will be about 2 hours on easy terrain\, all welcome including dogs and children.\nEnding at 12 noon\, there is time to take advantage of the many pubs and cafes nearby / in town. \nNo booking required\, free of charge. \nMeet at Chesham Moor\, Moor Road\, Chesham\, Bucks HP5 1SE\n(NB: This is a change from the previously advertised starting point) \nFollow the River Chess Association Facebook page \n  \n 
URL:https://visitchesham.org.uk/events/guided-walk-river-chess-2/
LOCATION:Chesham Moor\, Moor Road\, Chesham\, Bucks\, HP5 1SE\, United Kingdom
CATEGORIES:Chesham
ATTACH;FMTTYPE=image/jpeg:https://visitchesham.org.uk/wp-content/uploads/2023/12/river-chess-near-queens-head-and-river-chess-association-logo.jpg
END:VEVENT
END:VCALENDAR