BEGIN:VCALENDAR
VERSION:2.0
PRODID:-//Visit Chesham and villages - official website - ECPv6.15.20//NONSGML v1.0//EN
CALSCALE:GREGORIAN
METHOD:PUBLISH
X-ORIGINAL-URL:https://visitchesham.org.uk
X-WR-CALDESC:Events for Visit Chesham and villages - official website
REFRESH-INTERVAL;VALUE=DURATION:PT1H
X-Robots-Tag:noindex
X-PUBLISHED-TTL:PT1H
BEGIN:VTIMEZONE
TZID:Europe/London
BEGIN:DAYLIGHT
TZOFFSETFROM:+0000
TZOFFSETTO:+0100
TZNAME:BST
DTSTART:20240331T010000
END:DAYLIGHT
BEGIN:STANDARD
TZOFFSETFROM:+0100
TZOFFSETTO:+0000
TZNAME:GMT
DTSTART:20241027T010000
END:STANDARD
BEGIN:DAYLIGHT
TZOFFSETFROM:+0000
TZOFFSETTO:+0100
TZNAME:BST
DTSTART:20250330T010000
END:DAYLIGHT
BEGIN:STANDARD
TZOFFSETFROM:+0100
TZOFFSETTO:+0000
TZNAME:GMT
DTSTART:20251026T010000
END:STANDARD
BEGIN:DAYLIGHT
TZOFFSETFROM:+0000
TZOFFSETTO:+0100
TZNAME:BST
DTSTART:20260329T010000
END:DAYLIGHT
BEGIN:STANDARD
TZOFFSETFROM:+0100
TZOFFSETTO:+0000
TZNAME:GMT
DTSTART:20261025T010000
END:STANDARD
END:VTIMEZONE
BEGIN:VEVENT
DTSTART;TZID=Europe/London:20251126T163000
DTEND;TZID=Europe/London:20251129T200000
DTSTAMP:20260421T200709
CREATED:20251022T220156Z
LAST-MODIFIED:20251107T080436Z
UID:10167-1764174600-1764446400@visitchesham.org.uk
SUMMARY:Nativity Light Trail\, Restore Hope
DESCRIPTION:Restore Hope is in one of the most spectacular parts of the Chess Valley. \nThis year the Nativity Light Trail is open from 26th–29th November and 3rd–6th December .\nBring your friends and family for the perfect way to start the Christmas season.\nBook your tickets for the Nativity Light Trail
URL:https://visitchesham.org.uk/events/nativity-light-trail/
LOCATION:Restore Hope\, Latimer Park Farm\, Chesham\, Bucks\, HP5 1TU\, United Kingdom
CATEGORIES:Villages
ATTACH;FMTTYPE=image/jpeg:https://visitchesham.org.uk/wp-content/uploads/2025/10/IMG_1602.jpeg
END:VEVENT
BEGIN:VEVENT
DTSTART;TZID=Europe/London:20251129T100000
DTEND;TZID=Europe/London:20251129T160000
DTSTAMP:20260421T200709
CREATED:20251127T145251Z
LAST-MODIFIED:20251127T145445Z
UID:10274-1764410400-1764432000@visitchesham.org.uk
SUMMARY:This is Christmas
DESCRIPTION:One day festival ‘This is Christmas’ at St Mary’s Church\, Chesham\, launching the arrival of the Advent Season.\nOpen Saturday 29 November from 10am until 4.30pm when the church bells ring out and thousands of lights around St Mary’s Church burst into life\,  \nCraft market\, art exhibition. live music\, rest & reflect lounge and more. for all the family. \nOrganised by charity Root and Branch Change
URL:https://visitchesham.org.uk/events/this-is-christmas/
LOCATION:St Mary’s Church\, Chesham\, HP5 1HY\, United Kingdom
CATEGORIES:Chesham
ATTACH;FMTTYPE=image/jpeg:https://visitchesham.org.uk/wp-content/uploads/2025/11/this-is-christmas-.jpg
END:VEVENT
END:VCALENDAR