BEGIN:VCALENDAR
VERSION:2.0
PRODID:-//Visit Chesham and villages - official website - ECPv6.15.20//NONSGML v1.0//EN
CALSCALE:GREGORIAN
METHOD:PUBLISH
X-WR-CALNAME:Visit Chesham and villages - official website
X-ORIGINAL-URL:https://visitchesham.org.uk
X-WR-CALDESC:Events for Visit Chesham and villages - official website
REFRESH-INTERVAL;VALUE=DURATION:PT1H
X-Robots-Tag:noindex
X-PUBLISHED-TTL:PT1H
BEGIN:VTIMEZONE
TZID:Europe/London
BEGIN:DAYLIGHT
TZOFFSETFROM:+0000
TZOFFSETTO:+0100
TZNAME:BST
DTSTART:20240331T010000
END:DAYLIGHT
BEGIN:STANDARD
TZOFFSETFROM:+0100
TZOFFSETTO:+0000
TZNAME:GMT
DTSTART:20241027T010000
END:STANDARD
BEGIN:DAYLIGHT
TZOFFSETFROM:+0000
TZOFFSETTO:+0100
TZNAME:BST
DTSTART:20250330T010000
END:DAYLIGHT
BEGIN:STANDARD
TZOFFSETFROM:+0100
TZOFFSETTO:+0000
TZNAME:GMT
DTSTART:20251026T010000
END:STANDARD
BEGIN:DAYLIGHT
TZOFFSETFROM:+0000
TZOFFSETTO:+0100
TZNAME:BST
DTSTART:20260329T010000
END:DAYLIGHT
BEGIN:STANDARD
TZOFFSETFROM:+0100
TZOFFSETTO:+0000
TZNAME:GMT
DTSTART:20261025T010000
END:STANDARD
END:VTIMEZONE
BEGIN:VEVENT
DTSTART;TZID=Europe/London:20251123T103000
DTEND;TZID=Europe/London:20251123T160000
DTSTAMP:20260421T234652
CREATED:20250212T081132Z
LAST-MODIFIED:20250212T081437Z
UID:9365-1763893800-1763913600@visitchesham.org.uk
SUMMARY:Elgiva Artisans & Chiltern Made Craft Fair 2025
DESCRIPTION:In association with Chiltern Made\, Elgiva Artisans are holding their 5th annual craft fair at The Elgiva\, Chesham on Sunday 23 November 2025.\nCelebrating locally-made original crafts and showcasing creative small businesses\, artisans and makers based in our beautiful Chilterns.\n\nThere will be stalls\, packed with art\, decorative items\, perfect presents and treats\, all made by talented local creatives and artists.\n\nAll welcome. Small entrance fee on the door.\nFind more information about the event nearer the time via Elgiva.com
URL:https://visitchesham.org.uk/events/elgiva-artisans-chiltern-made-craft-fair-2025/
LOCATION:The Elgiva\, St Mary's Way\, Chesham\, Bucks\, HP5 1HR\, United Kingdom
CATEGORIES:Chesham
ATTACH;FMTTYPE=image/jpeg:https://visitchesham.org.uk/wp-content/uploads/2025/02/IMG_5929.jpeg
ORGANIZER;CN="The Elgiva":MAILTO:boxoffice@elgiva.com
END:VEVENT
END:VCALENDAR