BEGIN:VCALENDAR
VERSION:2.0
PRODID:-//Visit Chesham and villages - official website - ECPv6.15.20//NONSGML v1.0//EN
CALSCALE:GREGORIAN
METHOD:PUBLISH
X-WR-CALNAME:Visit Chesham and villages - official website
X-ORIGINAL-URL:https://visitchesham.org.uk
X-WR-CALDESC:Events for Visit Chesham and villages - official website
REFRESH-INTERVAL;VALUE=DURATION:PT1H
X-Robots-Tag:noindex
X-PUBLISHED-TTL:PT1H
BEGIN:VTIMEZONE
TZID:Europe/London
BEGIN:DAYLIGHT
TZOFFSETFROM:+0000
TZOFFSETTO:+0100
TZNAME:BST
DTSTART:20240331T010000
END:DAYLIGHT
BEGIN:STANDARD
TZOFFSETFROM:+0100
TZOFFSETTO:+0000
TZNAME:GMT
DTSTART:20241027T010000
END:STANDARD
BEGIN:DAYLIGHT
TZOFFSETFROM:+0000
TZOFFSETTO:+0100
TZNAME:BST
DTSTART:20250330T010000
END:DAYLIGHT
BEGIN:STANDARD
TZOFFSETFROM:+0100
TZOFFSETTO:+0000
TZNAME:GMT
DTSTART:20251026T010000
END:STANDARD
BEGIN:DAYLIGHT
TZOFFSETFROM:+0000
TZOFFSETTO:+0100
TZNAME:BST
DTSTART:20260329T010000
END:DAYLIGHT
BEGIN:STANDARD
TZOFFSETFROM:+0100
TZOFFSETTO:+0000
TZNAME:GMT
DTSTART:20261025T010000
END:STANDARD
END:VTIMEZONE
BEGIN:VEVENT
DTSTART;TZID=Europe/London:20251119T193000
DTEND;TZID=Europe/London:20251122T213000
DTSTAMP:20260421T234911
CREATED:20251107T080315Z
LAST-MODIFIED:20260101T183201Z
UID:10199-1763580600-1763847000@visitchesham.org.uk
SUMMARY:Parade
DESCRIPTION:The Luvvies take to the stage for four consecutive nights at Ley Hill Memorial Hall\, with ‘Parade’. \nWednesday 19th to Saturday 22nd November\, 7.30pm at Ley Hill Memorial Hall. \nParade is a Tony Award winning show with a powerful musical score written by Jason Robert Brown.\nThis compelling piece of musical theatre is based on the real case of Leo Frank\, considered one of the greatest miscarriages of justice in American history.\nParade recently won ‘Best Broadway Revival.’ and yet this is probably the best musical you have never heard of!\nThe Luvvies are presenting this show with all profits go to local charities. \nBook tickets for Parade
URL:https://visitchesham.org.uk/events/parade-ley-hill/
LOCATION:Ley Hill Memorial Hall\, Ley Hill\, Bucks\, HP5 1XT\, United Kingdom
CATEGORIES:Villages
ATTACH;FMTTYPE=image/jpeg:https://visitchesham.org.uk/wp-content/uploads/2025/11/parade-ley-hill-the-luvvies.jpg
END:VEVENT
END:VCALENDAR