BEGIN:VCALENDAR
VERSION:2.0
PRODID:-//Visit Chesham and villages - official website - ECPv6.15.20//NONSGML v1.0//EN
CALSCALE:GREGORIAN
METHOD:PUBLISH
X-WR-CALNAME:Visit Chesham and villages - official website
X-ORIGINAL-URL:https://visitchesham.org.uk
X-WR-CALDESC:Events for Visit Chesham and villages - official website
REFRESH-INTERVAL;VALUE=DURATION:PT1H
X-Robots-Tag:noindex
X-PUBLISHED-TTL:PT1H
BEGIN:VTIMEZONE
TZID:Europe/London
BEGIN:DAYLIGHT
TZOFFSETFROM:+0000
TZOFFSETTO:+0100
TZNAME:BST
DTSTART:20240331T010000
END:DAYLIGHT
BEGIN:STANDARD
TZOFFSETFROM:+0100
TZOFFSETTO:+0000
TZNAME:GMT
DTSTART:20241027T010000
END:STANDARD
BEGIN:DAYLIGHT
TZOFFSETFROM:+0000
TZOFFSETTO:+0100
TZNAME:BST
DTSTART:20250330T010000
END:DAYLIGHT
BEGIN:STANDARD
TZOFFSETFROM:+0100
TZOFFSETTO:+0000
TZNAME:GMT
DTSTART:20251026T010000
END:STANDARD
BEGIN:DAYLIGHT
TZOFFSETFROM:+0000
TZOFFSETTO:+0100
TZNAME:BST
DTSTART:20260329T010000
END:DAYLIGHT
BEGIN:STANDARD
TZOFFSETFROM:+0100
TZOFFSETTO:+0000
TZNAME:GMT
DTSTART:20261025T010000
END:STANDARD
END:VTIMEZONE
BEGIN:VEVENT
DTSTART;TZID=Europe/London:20251108T083000
DTEND;TZID=Europe/London:20251108T130000
DTSTAMP:20260422T082511
CREATED:20251028T113310Z
LAST-MODIFIED:20251028T113554Z
UID:10187-1762590600-1762606800@visitchesham.org.uk
SUMMARY:Shop at The Lee Christmas market
DESCRIPTION:Shop at The Lee will be opening the Parish Hall doors to the Christmas Food and Gift Market.\n\nSaturday 8th November at 8.30am until 1pm.\nLee Clump Rd\, Lee Common\, Great Missenden HP16 9NB\n\n\n\nThere’ll be panettone\, stollen\, Christmas cakes\, puddings and mince pies\, chocolates\, liqueur bottled fruit\, chutneys\, crackers\, baklava\, children’s chocs and so much more. Christmas ales and spirit gift packs.\nChristmas stocking fillers\, everything essential for present wrapping\, charity greetings cards\, advent calendars and ‘pop and slot’ festive scenes.\nTable and tree decorations with napkins\, crackers\, candles\, ‘fairies\, gnomes & angels’ galore with the odd nutcracker soldier appearing.\n\n\nBeautifully arranged potted plant displays\, not forgetting dog/cat treats.\n\n\nPrices on many items are lower than the larger shops so come along and buy locally\, enjoying easy parking\, a sip of mulled wine (and a piece of cake) all served with a friendly smile.
URL:https://visitchesham.org.uk/events/shop-lee-christmas-market/
LOCATION:Shop at The Lee\, Lee Clump Rd\, Lee Common\, Bucks\, HP16 9NB\, United Kingdom
CATEGORIES:Villages
ATTACH;FMTTYPE=image/jpeg:https://visitchesham.org.uk/wp-content/uploads/2025/10/village-shop-made-of-cake.jpg
END:VEVENT
END:VCALENDAR