BEGIN:VCALENDAR
VERSION:2.0
PRODID:-//Visit Chesham and villages - official website - ECPv6.15.20//NONSGML v1.0//EN
CALSCALE:GREGORIAN
METHOD:PUBLISH
X-WR-CALNAME:Visit Chesham and villages - official website
X-ORIGINAL-URL:https://visitchesham.org.uk
X-WR-CALDESC:Events for Visit Chesham and villages - official website
REFRESH-INTERVAL;VALUE=DURATION:PT1H
X-Robots-Tag:noindex
X-PUBLISHED-TTL:PT1H
BEGIN:VTIMEZONE
TZID:Europe/London
BEGIN:DAYLIGHT
TZOFFSETFROM:+0000
TZOFFSETTO:+0100
TZNAME:BST
DTSTART:20240331T010000
END:DAYLIGHT
BEGIN:STANDARD
TZOFFSETFROM:+0100
TZOFFSETTO:+0000
TZNAME:GMT
DTSTART:20241027T010000
END:STANDARD
BEGIN:DAYLIGHT
TZOFFSETFROM:+0000
TZOFFSETTO:+0100
TZNAME:BST
DTSTART:20250330T010000
END:DAYLIGHT
BEGIN:STANDARD
TZOFFSETFROM:+0100
TZOFFSETTO:+0000
TZNAME:GMT
DTSTART:20251026T010000
END:STANDARD
BEGIN:DAYLIGHT
TZOFFSETFROM:+0000
TZOFFSETTO:+0100
TZNAME:BST
DTSTART:20260329T010000
END:DAYLIGHT
BEGIN:STANDARD
TZOFFSETFROM:+0100
TZOFFSETTO:+0000
TZNAME:GMT
DTSTART:20261025T010000
END:STANDARD
END:VTIMEZONE
BEGIN:VEVENT
DTSTART;TZID=Europe/London:20251102T100000
DTEND;TZID=Europe/London:20251102T120000
DTSTAMP:20260421T235008
CREATED:20251028T180255Z
LAST-MODIFIED:20251028T180255Z
UID:9669-1762077600-1762084800@visitchesham.org.uk
SUMMARY:Guided walk – River Chess from Chenies
DESCRIPTION:Monthly walk on Sunday 2nd November this time starting at Chenies Manor Car Park at 10am. Entrance to the car park is from the Amersham Road. The circular walk will take in the Chess from Latimer to Sarratt\, It will take about 2 hours. No booking or fee required.\nNearest Post Code WD3 6EP \nFor those wishing to extend their stay in Chenies book a lunch at the Red Lion or Bedford Arms. \n\n\n\n\n\n\nFollow the River Chess Association Facebook page \nChenies village information  \n 
URL:https://visitchesham.org.uk/events/guided-walk-river-chess-from-chenies-2-november/
LOCATION:Chenies Manor\, Chenies\, Rickmansworth\, WD3 6ER
CATEGORIES:Villages
ATTACH;FMTTYPE=image/jpeg:https://visitchesham.org.uk/wp-content/uploads/2023/12/river-chess-near-queens-head-and-river-chess-association-logo.jpg
END:VEVENT
END:VCALENDAR