BEGIN:VCALENDAR
VERSION:2.0
PRODID:-//Visit Chesham and villages - official website - ECPv6.15.20//NONSGML v1.0//EN
CALSCALE:GREGORIAN
METHOD:PUBLISH
X-WR-CALNAME:Visit Chesham and villages - official website
X-ORIGINAL-URL:https://visitchesham.org.uk
X-WR-CALDESC:Events for Visit Chesham and villages - official website
REFRESH-INTERVAL;VALUE=DURATION:PT1H
X-Robots-Tag:noindex
X-PUBLISHED-TTL:PT1H
BEGIN:VTIMEZONE
TZID:Europe/London
BEGIN:DAYLIGHT
TZOFFSETFROM:+0000
TZOFFSETTO:+0100
TZNAME:BST
DTSTART:20240331T010000
END:DAYLIGHT
BEGIN:STANDARD
TZOFFSETFROM:+0100
TZOFFSETTO:+0000
TZNAME:GMT
DTSTART:20241027T010000
END:STANDARD
BEGIN:DAYLIGHT
TZOFFSETFROM:+0000
TZOFFSETTO:+0100
TZNAME:BST
DTSTART:20250330T010000
END:DAYLIGHT
BEGIN:STANDARD
TZOFFSETFROM:+0100
TZOFFSETTO:+0000
TZNAME:GMT
DTSTART:20251026T010000
END:STANDARD
BEGIN:DAYLIGHT
TZOFFSETFROM:+0000
TZOFFSETTO:+0100
TZNAME:BST
DTSTART:20260329T010000
END:DAYLIGHT
BEGIN:STANDARD
TZOFFSETFROM:+0100
TZOFFSETTO:+0000
TZNAME:GMT
DTSTART:20261025T010000
END:STANDARD
END:VTIMEZONE
BEGIN:VEVENT
DTSTART;TZID=Europe/London:20251005T100000
DTEND;TZID=Europe/London:20251005T123000
DTSTAMP:20260422T082440
CREATED:20251002T122412Z
LAST-MODIFIED:20251002T122629Z
UID:10127-1759658400-1759667400@visitchesham.org.uk
SUMMARY:Organised walk - Chenies
DESCRIPTION:A lovely walk on Sunday 5 October from Little Chalfont. 5.5 miles passing the historic Latimer house and Chenies Manor and along parts of the beautiful River Chess. \nBooking is essential : \nPlease book via The Chiltern Society website \n 
URL:https://visitchesham.org.uk/events/organised-walk-latimer-chenies/
LOCATION:Bucks
CATEGORIES:Villages
ATTACH;FMTTYPE=image/jpeg:https://visitchesham.org.uk/wp-content/uploads/2023/08/organised-walks-ashley-green-event-image.jpg
END:VEVENT
END:VCALENDAR