BEGIN:VCALENDAR
VERSION:2.0
PRODID:-//Visit Chesham and villages - official website - ECPv6.15.20//NONSGML v1.0//EN
CALSCALE:GREGORIAN
METHOD:PUBLISH
X-ORIGINAL-URL:https://visitchesham.org.uk
X-WR-CALDESC:Events for Visit Chesham and villages - official website
REFRESH-INTERVAL;VALUE=DURATION:PT1H
X-Robots-Tag:noindex
X-PUBLISHED-TTL:PT1H
BEGIN:VTIMEZONE
TZID:Europe/London
BEGIN:DAYLIGHT
TZOFFSETFROM:+0000
TZOFFSETTO:+0100
TZNAME:BST
DTSTART:20240331T010000
END:DAYLIGHT
BEGIN:STANDARD
TZOFFSETFROM:+0100
TZOFFSETTO:+0000
TZNAME:GMT
DTSTART:20241027T010000
END:STANDARD
BEGIN:DAYLIGHT
TZOFFSETFROM:+0000
TZOFFSETTO:+0100
TZNAME:BST
DTSTART:20250330T010000
END:DAYLIGHT
BEGIN:STANDARD
TZOFFSETFROM:+0100
TZOFFSETTO:+0000
TZNAME:GMT
DTSTART:20251026T010000
END:STANDARD
BEGIN:DAYLIGHT
TZOFFSETFROM:+0000
TZOFFSETTO:+0100
TZNAME:BST
DTSTART:20260329T010000
END:DAYLIGHT
BEGIN:STANDARD
TZOFFSETFROM:+0100
TZOFFSETTO:+0000
TZNAME:GMT
DTSTART:20261025T010000
END:STANDARD
END:VTIMEZONE
BEGIN:VEVENT
DTSTART;TZID=Europe/London:20250907T140000
DTEND;TZID=Europe/London:20250907T160000
DTSTAMP:20260422T231110
CREATED:20250807T111305Z
LAST-MODIFIED:20250807T111702Z
UID:9978-1757253600-1757260800@visitchesham.org.uk
SUMMARY:Chesham Town Picture Heritage Walk
DESCRIPTION:Walk guide: Tony Eustace \nDelve into the history of this much treasured painting of Chesham.\nAn informative walk of 1.5 – 2 hours visiting the locations shown on the 1760 Chesham Town Picture\, finishing with a delicious cream tea in the garden of 30 Church Street. \nTickets £12 per person\, includes cream tea and a postcard of the town picture. \n  \n\nOrganised by Chesham Museum. \nBook via Chesham Museum website
URL:https://visitchesham.org.uk/events/chesham-town-picture-heritage-walk/
LOCATION:Market Square\, Chesham\, HP5 1HG\, United Kingdom
CATEGORIES:Chesham
ATTACH;FMTTYPE=image/jpeg:https://visitchesham.org.uk/wp-content/uploads/2025/08/Chesham-Town-picture.jpg
END:VEVENT
END:VCALENDAR