BEGIN:VCALENDAR
VERSION:2.0
PRODID:-//Visit Chesham and villages - official website - ECPv6.15.20//NONSGML v1.0//EN
CALSCALE:GREGORIAN
METHOD:PUBLISH
X-WR-CALNAME:Visit Chesham and villages - official website
X-ORIGINAL-URL:https://visitchesham.org.uk
X-WR-CALDESC:Events for Visit Chesham and villages - official website
REFRESH-INTERVAL;VALUE=DURATION:PT1H
X-Robots-Tag:noindex
X-PUBLISHED-TTL:PT1H
BEGIN:VTIMEZONE
TZID:Europe/London
BEGIN:DAYLIGHT
TZOFFSETFROM:+0000
TZOFFSETTO:+0100
TZNAME:BST
DTSTART:20240331T010000
END:DAYLIGHT
BEGIN:STANDARD
TZOFFSETFROM:+0100
TZOFFSETTO:+0000
TZNAME:GMT
DTSTART:20241027T010000
END:STANDARD
BEGIN:DAYLIGHT
TZOFFSETFROM:+0000
TZOFFSETTO:+0100
TZNAME:BST
DTSTART:20250330T010000
END:DAYLIGHT
BEGIN:STANDARD
TZOFFSETFROM:+0100
TZOFFSETTO:+0000
TZNAME:GMT
DTSTART:20251026T010000
END:STANDARD
BEGIN:DAYLIGHT
TZOFFSETFROM:+0000
TZOFFSETTO:+0100
TZNAME:BST
DTSTART:20260329T010000
END:DAYLIGHT
BEGIN:STANDARD
TZOFFSETFROM:+0100
TZOFFSETTO:+0000
TZNAME:GMT
DTSTART:20261025T010000
END:STANDARD
END:VTIMEZONE
BEGIN:VEVENT
DTSTART;TZID=Europe/London:20250825T140000
DTEND;TZID=Europe/London:20250825T170000
DTSTAMP:20260422T230844
CREATED:20250624T121133Z
LAST-MODIFIED:20250827T122040Z
UID:9814-1756130400-1756141200@visitchesham.org.uk
SUMMARY:Dahlia Festival 2025
DESCRIPTION:A spectacular display of dahlias in the award-winning gardens of Chenies Manor House. A lovely afternoon out.\n\n\nBank Holiday Monday 25th August\nGates open: 2pm – Gates close: 5pm\nExtra dates added on 27th August\, 4th September and 21st September!\n\n\n\n\nEnjoy a cup of tea and a delicious locally sourced home-made cakes in these beautiful surroundings. \n\nPre-book your tickets via the Chenies Manor website \n  \nSee Chenies Manor website for all events  \n 
URL:https://visitchesham.org.uk/events/dahlia-festival-2025/
LOCATION:Chenies Manor\, Chenies\, Rickmansworth\, WD3 6ER
CATEGORIES:Villages
ATTACH;FMTTYPE=image/jpeg:https://visitchesham.org.uk/wp-content/uploads/2024/03/IMG_0414.jpeg
END:VEVENT
END:VCALENDAR