BEGIN:VCALENDAR
VERSION:2.0
PRODID:-//Visit Chesham and villages - official website - ECPv6.15.20//NONSGML v1.0//EN
CALSCALE:GREGORIAN
METHOD:PUBLISH
X-WR-CALNAME:Visit Chesham and villages - official website
X-ORIGINAL-URL:https://visitchesham.org.uk
X-WR-CALDESC:Events for Visit Chesham and villages - official website
REFRESH-INTERVAL;VALUE=DURATION:PT1H
X-Robots-Tag:noindex
X-PUBLISHED-TTL:PT1H
BEGIN:VTIMEZONE
TZID:Europe/London
BEGIN:DAYLIGHT
TZOFFSETFROM:+0000
TZOFFSETTO:+0100
TZNAME:BST
DTSTART:20240331T010000
END:DAYLIGHT
BEGIN:STANDARD
TZOFFSETFROM:+0100
TZOFFSETTO:+0000
TZNAME:GMT
DTSTART:20241027T010000
END:STANDARD
BEGIN:DAYLIGHT
TZOFFSETFROM:+0000
TZOFFSETTO:+0100
TZNAME:BST
DTSTART:20250330T010000
END:DAYLIGHT
BEGIN:STANDARD
TZOFFSETFROM:+0100
TZOFFSETTO:+0000
TZNAME:GMT
DTSTART:20251026T010000
END:STANDARD
BEGIN:DAYLIGHT
TZOFFSETFROM:+0000
TZOFFSETTO:+0100
TZNAME:BST
DTSTART:20260329T010000
END:DAYLIGHT
BEGIN:STANDARD
TZOFFSETFROM:+0100
TZOFFSETTO:+0000
TZNAME:GMT
DTSTART:20261025T010000
END:STANDARD
END:VTIMEZONE
BEGIN:VEVENT
DTSTART;TZID=Europe/London:20250823T100000
DTEND;TZID=Europe/London:20250823T140000
DTSTAMP:20260423T065106
CREATED:20250105T173238Z
LAST-MODIFIED:20250105T173238Z
UID:9112-1755943200-1755957600@visitchesham.org.uk
SUMMARY:Chesham Local Produce Market
DESCRIPTION:Chesham Local Produce Market runs on the fourth Saturday of every month. On sale are high quality food\, drink and crafts from approximately a 25 mile radius of Chesham. It’s held in the Market Square and the lower end of the High Street between 10am and 2pm. A fantastic opportunity to try local produce on your doorstep\, at your convenience\, and meet the people who make it! \nChesham Local Produce Market dates for 2025\n\nJanuary 25\nFebruary 22\nMarch 22\nApril 26\nMay 24\nJune 28\nJuly 26\nAugust 23\nSeptember 27\nOctober 25\nNovember 22\nDecember  20\n\nThe local produce market is run by Chesham Town Council in partnership with Sustainable Chesham. The market was set up to support local producers and reduce the food miles consumed by Chesham’s residents to help create a more sustainable community. \nIf you are a local producer and interested in attending\, please email Colette Littley at Chesham Town Council  \n 
URL:https://visitchesham.org.uk/events/chesham-local-produce-market-4/
LOCATION:Market Square\, Chesham\, HP5 1HG\, United Kingdom
CATEGORIES:Chesham
ATTACH;FMTTYPE=image/png:https://visitchesham.org.uk/wp-content/uploads/2023/04/Chesham-Local-Produce-Market-graphic-e1713281677112.png
END:VEVENT
BEGIN:VEVENT
DTSTART;TZID=Europe/London:20250823T120000
DTEND;TZID=Europe/London:20250824T200000
DTSTAMP:20260423T065106
CREATED:20250604T202421Z
LAST-MODIFIED:20250604T203310Z
UID:9781-1755950400-1756065600@visitchesham.org.uk
SUMMARY:Ley Hill Music & Beer Festival 2025
DESCRIPTION:The hugely popular Ley Hill Music & Beer Festival returns. Award-winning pub The Crown at Ley Hill plays host to live music and great beers to enjoy in the pub and on Ley Hill Common. \nTaking place over the Bank Holiday weekend Saturday 23 and Sunday 24 August. \nTimes approximate. \nMore information on The Crown\, Ley Hill website. \nOr see The Crown Facebook page  \n 
URL:https://visitchesham.org.uk/events/ley-hill-music-beer-festival-2025/
LOCATION:The Crown\, Ley Hill\, Blackwell Hall Lane\, Ley Hill\, Chesham\, Bucks\, HP5 1UY
CATEGORIES:Villages
ATTACH;FMTTYPE=image/jpeg:https://visitchesham.org.uk/wp-content/uploads/2024/03/ley-hill-beer-festival-graphic-cropped.jpg
END:VEVENT
END:VCALENDAR