BEGIN:VCALENDAR
VERSION:2.0
PRODID:-//Visit Chesham and villages - official website - ECPv6.15.20//NONSGML v1.0//EN
CALSCALE:GREGORIAN
METHOD:PUBLISH
X-WR-CALNAME:Visit Chesham and villages - official website
X-ORIGINAL-URL:https://visitchesham.org.uk
X-WR-CALDESC:Events for Visit Chesham and villages - official website
REFRESH-INTERVAL;VALUE=DURATION:PT1H
X-Robots-Tag:noindex
X-PUBLISHED-TTL:PT1H
BEGIN:VTIMEZONE
TZID:Europe/London
BEGIN:DAYLIGHT
TZOFFSETFROM:+0000
TZOFFSETTO:+0100
TZNAME:BST
DTSTART:20240331T010000
END:DAYLIGHT
BEGIN:STANDARD
TZOFFSETFROM:+0100
TZOFFSETTO:+0000
TZNAME:GMT
DTSTART:20241027T010000
END:STANDARD
BEGIN:DAYLIGHT
TZOFFSETFROM:+0000
TZOFFSETTO:+0100
TZNAME:BST
DTSTART:20250330T010000
END:DAYLIGHT
BEGIN:STANDARD
TZOFFSETFROM:+0100
TZOFFSETTO:+0000
TZNAME:GMT
DTSTART:20251026T010000
END:STANDARD
BEGIN:DAYLIGHT
TZOFFSETFROM:+0000
TZOFFSETTO:+0100
TZNAME:BST
DTSTART:20260329T010000
END:DAYLIGHT
BEGIN:STANDARD
TZOFFSETFROM:+0100
TZOFFSETTO:+0000
TZNAME:GMT
DTSTART:20261025T010000
END:STANDARD
END:VTIMEZONE
BEGIN:VEVENT
DTSTART;TZID=Europe/London:20250815T193000
DTEND;TZID=Europe/London:20250817T180000
DTSTAMP:20260422T230902
CREATED:20250519T135822Z
LAST-MODIFIED:20250808T104359Z
UID:9663-1755286200-1755453600@visitchesham.org.uk
SUMMARY:Latimer Music Festival 2025
DESCRIPTION:Latimer Music Festival at St Mary Magdalene Church. \n‘We will be presenting four concerts again this year including the popular Concerto format concert\, A Night at the Opera\, including a selection of arias\, duets and songs from well known operas\, a Showcase of Young Musicians from the Royal Academy of Music Junior Department and Coco Tomita (violin) and Kenji Miura (piano). Hailed by critics and audiences alike\, Japanese violinist Coco Tomita first gained recognition after winning the BBC Young Musician 2020 Strings Category.Kenji Miura is one of the most exciting pianists of his generation and has won critical acclaims from around the world.’ \nLatimer Music Festival website
URL:https://visitchesham.org.uk/events/latimer-music-festival-2025/
LOCATION:St Mary Magdalene Church\, Church Lane\, Latimer\, Buckinghamshire\, HP5 1UJ\, United Kingdom
CATEGORIES:Villages
ATTACH;FMTTYPE=image/jpeg:https://visitchesham.org.uk/wp-content/uploads/2025/05/latimer-music-festival-event.jpg
END:VEVENT
BEGIN:VEVENT
DTSTART;TZID=Europe/London:20250817T140000
DTEND;TZID=Europe/London:20250817T160000
DTSTAMP:20260422T230902
CREATED:20250702T115422Z
LAST-MODIFIED:20250702T115422Z
UID:9878-1755439200-1755446400@visitchesham.org.uk
SUMMARY:Music in the Park 2025
DESCRIPTION:Free music 2–4pm\, on Sundays in July and August\, 2025.\nSit back and enjoy live music from choirs and bands – something different enjoy every week!. \n\n6 July Praise in the Park\n13 July Thame Concert Band\n20 July Manos Puestas\n27 July Love & Squalor\n3 August Burnham Concert Band\n10 Aug Subtle Sonics\n17 Aug Watford Band\n24 Aug The Deviators\n\nMusic in the Park is a free event organised by Chesham Town Council. \n  \n  \n 
URL:https://visitchesham.org.uk/events/music-in-the-park-17-august-2025/
LOCATION:Lowndes Park\, Chesham\, Bucks\, HP5 1HX\, United Kingdom
CATEGORIES:Chesham
ATTACH;FMTTYPE=image/jpeg:https://visitchesham.org.uk/wp-content/uploads/2023/03/MUSIC-IN-PARK-800x450-1.jpg
END:VEVENT
END:VCALENDAR