BEGIN:VCALENDAR
VERSION:2.0
PRODID:-//Visit Chesham and villages - official website - ECPv6.15.20//NONSGML v1.0//EN
CALSCALE:GREGORIAN
METHOD:PUBLISH
X-WR-CALNAME:Visit Chesham and villages - official website
X-ORIGINAL-URL:https://visitchesham.org.uk
X-WR-CALDESC:Events for Visit Chesham and villages - official website
REFRESH-INTERVAL;VALUE=DURATION:PT1H
X-Robots-Tag:noindex
X-PUBLISHED-TTL:PT1H
BEGIN:VTIMEZONE
TZID:Europe/London
BEGIN:DAYLIGHT
TZOFFSETFROM:+0000
TZOFFSETTO:+0100
TZNAME:BST
DTSTART:20240331T010000
END:DAYLIGHT
BEGIN:STANDARD
TZOFFSETFROM:+0100
TZOFFSETTO:+0000
TZNAME:GMT
DTSTART:20241027T010000
END:STANDARD
BEGIN:DAYLIGHT
TZOFFSETFROM:+0000
TZOFFSETTO:+0100
TZNAME:BST
DTSTART:20250330T010000
END:DAYLIGHT
BEGIN:STANDARD
TZOFFSETFROM:+0100
TZOFFSETTO:+0000
TZNAME:GMT
DTSTART:20251026T010000
END:STANDARD
BEGIN:DAYLIGHT
TZOFFSETFROM:+0000
TZOFFSETTO:+0100
TZNAME:BST
DTSTART:20260329T010000
END:DAYLIGHT
BEGIN:STANDARD
TZOFFSETFROM:+0100
TZOFFSETTO:+0000
TZNAME:GMT
DTSTART:20261025T010000
END:STANDARD
END:VTIMEZONE
BEGIN:VEVENT
DTSTART;TZID=Europe/London:20250810T120000
DTEND;TZID=Europe/London:20250810T160000
DTSTAMP:20260423T005309
CREATED:20240418T220653Z
LAST-MODIFIED:20250806T170218Z
UID:6733-1754827200-1754841600@visitchesham.org.uk
SUMMARY:Classics on the Common 2025
DESCRIPTION:Classics on the Common\, Sunday 10th August 12-4pm. \nThis popular annual event on Ley Hill Common attracts some 200 classic cars. \nA free event for all the family\, with no need to book.\n\n\n\n\n\n\n\n\nBucket collections for local charities so please bring cash.\n\nIf you’d like to exhibit a car (free but donations welcome) please arrive from 10:30/11am.\nLocation: Ley Hill Cricket Club.\n\n\n\n\n\n\n\n\nInformation on Latimer and Ley Hill Parish Council website
URL:https://visitchesham.org.uk/events/classics-on-the-common-2025/
LOCATION:Ley Hill Cricket Club\, 10 Kiln Lane\, ley Hill\, nr Chesham\, Bucks\, HP5 3QS\, United Kingdom
CATEGORIES:Villages
ATTACH;FMTTYPE=image/jpeg:https://visitchesham.org.uk/wp-content/uploads/2024/04/IMG_0903.jpeg
END:VEVENT
BEGIN:VEVENT
DTSTART;TZID=Europe/London:20250810T140000
DTEND;TZID=Europe/London:20250810T160000
DTSTAMP:20260423T005309
CREATED:20250702T115255Z
LAST-MODIFIED:20250702T115255Z
UID:9874-1754834400-1754841600@visitchesham.org.uk
SUMMARY:Music in the Park 2025
DESCRIPTION:Free music 2–4pm\, on Sundays in July and August\, 2025.\nSit back and enjoy live music from choirs and bands – something different enjoy every week!. \n\n6 July Praise in the Park\n13 July Thame Concert Band\n20 July Manos Puestas\n27 July Love & Squalor\n3 August Burnham Concert Band\n10 Aug Subtle Sonics\n17 Aug Watford Band\n24 Aug The Deviators\n\nMusic in the Park is a free event organised by Chesham Town Council. \n  \n  \n 
URL:https://visitchesham.org.uk/events/music-in-the-park-10-august-2025/
LOCATION:Lowndes Park\, Chesham\, Bucks\, HP5 1HX\, United Kingdom
CATEGORIES:Chesham
ATTACH;FMTTYPE=image/jpeg:https://visitchesham.org.uk/wp-content/uploads/2023/03/MUSIC-IN-PARK-800x450-1.jpg
END:VEVENT
END:VCALENDAR