BEGIN:VCALENDAR
VERSION:2.0
PRODID:-//Visit Chesham and villages - official website - ECPv6.15.20//NONSGML v1.0//EN
CALSCALE:GREGORIAN
METHOD:PUBLISH
X-ORIGINAL-URL:https://visitchesham.org.uk
X-WR-CALDESC:Events for Visit Chesham and villages - official website
REFRESH-INTERVAL;VALUE=DURATION:PT1H
X-Robots-Tag:noindex
X-PUBLISHED-TTL:PT1H
BEGIN:VTIMEZONE
TZID:Europe/London
BEGIN:DAYLIGHT
TZOFFSETFROM:+0000
TZOFFSETTO:+0100
TZNAME:BST
DTSTART:20240331T010000
END:DAYLIGHT
BEGIN:STANDARD
TZOFFSETFROM:+0100
TZOFFSETTO:+0000
TZNAME:GMT
DTSTART:20241027T010000
END:STANDARD
BEGIN:DAYLIGHT
TZOFFSETFROM:+0000
TZOFFSETTO:+0100
TZNAME:BST
DTSTART:20250330T010000
END:DAYLIGHT
BEGIN:STANDARD
TZOFFSETFROM:+0100
TZOFFSETTO:+0000
TZNAME:GMT
DTSTART:20251026T010000
END:STANDARD
BEGIN:DAYLIGHT
TZOFFSETFROM:+0000
TZOFFSETTO:+0100
TZNAME:BST
DTSTART:20260329T010000
END:DAYLIGHT
BEGIN:STANDARD
TZOFFSETFROM:+0100
TZOFFSETTO:+0000
TZNAME:GMT
DTSTART:20261025T010000
END:STANDARD
END:VTIMEZONE
BEGIN:VEVENT
DTSTART;TZID=Europe/London:20250719T134500
DTEND;TZID=Europe/London:20250720T003000
DTSTAMP:20260423T232147
CREATED:20250530T165755Z
LAST-MODIFIED:20250621T141402Z
UID:9705-1752932700-1752971400@visitchesham.org.uk
SUMMARY:The Lee Flower Show 2025
DESCRIPTION:The Lee Flower Show is in its 133rd year and as popular as ever! The show has over 100 exhibiting classes for arts\, handicraft\, cookery and photography as well as the traditional classes for flowers\, fruit and vegetables. Music\, tea\, competitions\, exhibitions and dancing add even more to the day. \nThis year at The Lee Flower Show\, community-run The Shop at The Lee will be featuring a range of freshly produced ethnic foods including Turkish baclava and kataiki and Indian samosas\, bhajis and chicken tikka. \nThe show is on Saturday 19 July\, from 1.45pm. \nFollowed by the flower Dance from 7.30pm-12.30am. \nSee The Lee Flower Show schedule \nHeld at The Lee Manor Park and attracting entries and visitors from all across the Parish and from neighbouring villages. \nThe Lee Cricket GroundManor Park\, The LeeHP16 9NA \n  \n  \n  \n  \n 
URL:https://visitchesham.org.uk/events/the-lee-flower-show-2025/
LOCATION:The Lee Cricket Ground Manor Park\, The Lee\, Bucks\, HP16 9NA
CATEGORIES:Villages
ATTACH;FMTTYPE=image/jpeg:https://visitchesham.org.uk/wp-content/uploads/2025/05/lee-flower-show-2025.jpg
END:VEVENT
BEGIN:VEVENT
DTSTART;TZID=Europe/London:20250720T093000
DTEND;TZID=Europe/London:20250720T170000
DTSTAMP:20260423T232148
CREATED:20250624T120801Z
LAST-MODIFIED:20250624T120801Z
UID:9810-1753003800-1753030800@visitchesham.org.uk
SUMMARY:Chenies Annual Plant Fair 2025
DESCRIPTION:Chenies Plant Fair is a major event for garden lovers. This  Annual Plant Fair hosts over 80 specialist growers and nurseries and local artisan stalls.\nExpert horticulturalists\, garden items and so much more. \n\n\nThis year’s event is on Sunday 20 July. \nTickets available for advance purchase from Chenies Manor House. \nPlease note the Manor House is not open during the Plant Fair.
URL:https://visitchesham.org.uk/events/chenies-annual-plant-fair-2025/
LOCATION:Chenies Manor\, Chenies\, Rickmansworth\, WD3 6ER
CATEGORIES:Villages
ATTACH;FMTTYPE=image/webp:https://visitchesham.org.uk/wp-content/uploads/2024/02/IMG_9969-1.webp
END:VEVENT
BEGIN:VEVENT
DTSTART;TZID=Europe/London:20250720T100000
DTEND;TZID=Europe/London:20250720T160000
DTSTAMP:20260423T232148
CREATED:20250624T210503Z
LAST-MODIFIED:20250624T210550Z
UID:9823-1753005600-1753027200@visitchesham.org.uk
SUMMARY:Chesham Vintage Market
DESCRIPTION:New market in Chesham’s Market Square on Sundays. 22 June\, 6 July and 20 July.\n10am–4pm.\nBooks\, games\, clothes\, records\, furniture\, jeweleery\, homeware and collectables.\nPitches from £15.\n\nEmail Chesham Vintage market to book a pitch.
URL:https://visitchesham.org.uk/events/chesham-vintage-market-20-july/
LOCATION:Market Square\, Chesham\, HP5 1HG\, United Kingdom
CATEGORIES:Chesham
ATTACH;FMTTYPE=image/jpeg:https://visitchesham.org.uk/wp-content/uploads/2025/05/chesham-vintage-market.jpg
END:VEVENT
BEGIN:VEVENT
DTSTART;TZID=Europe/London:20250720T140000
DTEND;TZID=Europe/London:20250720T160000
DTSTAMP:20260423T232148
CREATED:20250702T114907Z
LAST-MODIFIED:20250702T114907Z
UID:9865-1753020000-1753027200@visitchesham.org.uk
SUMMARY:Music in the Park 2025
DESCRIPTION:Free music 2–4pm\, on Sundays in July and August\, 2025.\nSit back and enjoy live music from choirs and bands – something different enjoy every week!. \n\n6 July Praise in the Park\n13 July Thame Concert Band\n20 July Manos Puestas\n27 July Love & Squalor\n3 August Burnham Concert Band\n10 Aug Subtle Sonics\n17 Aug Watford Band\n24 Aug The Deviators\n\nMusic in the Park is a free event organised by Chesham Town Council. \n  \n  \n 
URL:https://visitchesham.org.uk/events/music-in-the-park-20-july-2025/
LOCATION:Lowndes Park\, Chesham\, Bucks\, HP5 1HX\, United Kingdom
CATEGORIES:Chesham
ATTACH;FMTTYPE=image/jpeg:https://visitchesham.org.uk/wp-content/uploads/2023/03/MUSIC-IN-PARK-800x450-1.jpg
END:VEVENT
END:VCALENDAR