BEGIN:VCALENDAR
VERSION:2.0
PRODID:-//Visit Chesham and villages - official website - ECPv6.15.20//NONSGML v1.0//EN
CALSCALE:GREGORIAN
METHOD:PUBLISH
X-WR-CALNAME:Visit Chesham and villages - official website
X-ORIGINAL-URL:https://visitchesham.org.uk
X-WR-CALDESC:Events for Visit Chesham and villages - official website
REFRESH-INTERVAL;VALUE=DURATION:PT1H
X-Robots-Tag:noindex
X-PUBLISHED-TTL:PT1H
BEGIN:VTIMEZONE
TZID:Europe/London
BEGIN:DAYLIGHT
TZOFFSETFROM:+0000
TZOFFSETTO:+0100
TZNAME:BST
DTSTART:20240331T010000
END:DAYLIGHT
BEGIN:STANDARD
TZOFFSETFROM:+0100
TZOFFSETTO:+0000
TZNAME:GMT
DTSTART:20241027T010000
END:STANDARD
BEGIN:DAYLIGHT
TZOFFSETFROM:+0000
TZOFFSETTO:+0100
TZNAME:BST
DTSTART:20250330T010000
END:DAYLIGHT
BEGIN:STANDARD
TZOFFSETFROM:+0100
TZOFFSETTO:+0000
TZNAME:GMT
DTSTART:20251026T010000
END:STANDARD
BEGIN:DAYLIGHT
TZOFFSETFROM:+0000
TZOFFSETTO:+0100
TZNAME:BST
DTSTART:20260329T010000
END:DAYLIGHT
BEGIN:STANDARD
TZOFFSETFROM:+0100
TZOFFSETTO:+0000
TZNAME:GMT
DTSTART:20261025T010000
END:STANDARD
END:VTIMEZONE
BEGIN:VEVENT
DTSTART;VALUE=DATE:20250523
DTEND;VALUE=DATE:20250526
DTSTAMP:20260423T105919
CREATED:20240725T152241Z
LAST-MODIFIED:20240725T152241Z
UID:7874-1747958400-1748217599@visitchesham.org.uk
SUMMARY:Chesham Fringe Festival 2025
DESCRIPTION:After the huge success of the 1st Chesham Fringe Festival in 2024 … it’ll return on May Bank Holiday weekend in 2025\, 23–25 May\, 2025. \nChesham has long been a strong community of creatives and innovators. It is also supportive and inclusive – some of the Chesham Fringe events will be free of charge. \nThere’s a vibrant array of local\, national and international talent and creativity – music\, comedy\, theatre\, cabaret\, spoken word\, book and poetry readings. \n  \nFor updates see the Chesham Fringe Festival website  \n 
URL:https://visitchesham.org.uk/events/chesham-fringe-festival-2025/
LOCATION:Bucks
CATEGORIES:Chesham
ATTACH;FMTTYPE=image/jpeg:https://visitchesham.org.uk/wp-content/uploads/2023/11/IMG_0539-e1711554862706.jpeg
END:VEVENT
BEGIN:VEVENT
DTSTART;VALUE=DATE:20250525
DTEND;VALUE=DATE:20250526
DTSTAMP:20260423T105919
CREATED:20250228T001010Z
LAST-MODIFIED:20250315T185431Z
UID:9405-1748131200-1748217599@visitchesham.org.uk
SUMMARY:ATW Chiltern half marathon & 10k
DESCRIPTION:Find details of ATW Chiltern half marathon and 10k \n25 May\, 2025.
URL:https://visitchesham.org.uk/events/atw-chiltern-half-and-10k/
LOCATION:Bucks
CATEGORIES:Villages
ATTACH;FMTTYPE=image/jpeg:https://visitchesham.org.uk/wp-content/uploads/2025/02/IMG_6084.jpeg
END:VEVENT
BEGIN:VEVENT
DTSTART;TZID=Europe/London:20250525T121500
DTEND;TZID=Europe/London:20250525T130000
DTSTAMP:20260423T105919
CREATED:20250417T210832Z
LAST-MODIFIED:20250417T211252Z
UID:9613-1748175300-1748178000@visitchesham.org.uk
SUMMARY:Hilltop Bach - free recital
DESCRIPTION:Regular Echor cellist\, Nathaniel Boyd\, continues this series of mini-recitals with Bach’s Cello Suite no. 2 in D minor\, along with a light exploration of the movement and its significance.  The recital is free and lasts between 30 to 40 minutes.
URL:https://visitchesham.org.uk/events/bach-recital/
LOCATION:St. John the Baptist\, The Lee\, HP16 9LZ\, The Lee\, HP16 9LZ\, United Kingdom
CATEGORIES:Villages
ATTACH;FMTTYPE=image/jpeg:https://visitchesham.org.uk/wp-content/uploads/2025/04/PHOTO-2025-04-15-18-50-04.jpg
END:VEVENT
END:VCALENDAR