BEGIN:VCALENDAR
VERSION:2.0
PRODID:-//Visit Chesham and villages - official website - ECPv6.15.20//NONSGML v1.0//EN
CALSCALE:GREGORIAN
METHOD:PUBLISH
X-ORIGINAL-URL:https://visitchesham.org.uk
X-WR-CALDESC:Events for Visit Chesham and villages - official website
REFRESH-INTERVAL;VALUE=DURATION:PT1H
X-Robots-Tag:noindex
X-PUBLISHED-TTL:PT1H
BEGIN:VTIMEZONE
TZID:Europe/London
BEGIN:DAYLIGHT
TZOFFSETFROM:+0000
TZOFFSETTO:+0100
TZNAME:BST
DTSTART:20240331T010000
END:DAYLIGHT
BEGIN:STANDARD
TZOFFSETFROM:+0100
TZOFFSETTO:+0000
TZNAME:GMT
DTSTART:20241027T010000
END:STANDARD
BEGIN:DAYLIGHT
TZOFFSETFROM:+0000
TZOFFSETTO:+0100
TZNAME:BST
DTSTART:20250330T010000
END:DAYLIGHT
BEGIN:STANDARD
TZOFFSETFROM:+0100
TZOFFSETTO:+0000
TZNAME:GMT
DTSTART:20251026T010000
END:STANDARD
BEGIN:DAYLIGHT
TZOFFSETFROM:+0000
TZOFFSETTO:+0100
TZNAME:BST
DTSTART:20260329T010000
END:DAYLIGHT
BEGIN:STANDARD
TZOFFSETFROM:+0100
TZOFFSETTO:+0000
TZNAME:GMT
DTSTART:20261025T010000
END:STANDARD
END:VTIMEZONE
BEGIN:VEVENT
DTSTART;VALUE=DATE:20250523
DTEND;VALUE=DATE:20250526
DTSTAMP:20260423T123751
CREATED:20240725T152241Z
LAST-MODIFIED:20240725T152241Z
UID:7874-1747958400-1748217599@visitchesham.org.uk
SUMMARY:Chesham Fringe Festival 2025
DESCRIPTION:After the huge success of the 1st Chesham Fringe Festival in 2024 … it’ll return on May Bank Holiday weekend in 2025\, 23–25 May\, 2025. \nChesham has long been a strong community of creatives and innovators. It is also supportive and inclusive – some of the Chesham Fringe events will be free of charge. \nThere’s a vibrant array of local\, national and international talent and creativity – music\, comedy\, theatre\, cabaret\, spoken word\, book and poetry readings. \n  \nFor updates see the Chesham Fringe Festival website  \n 
URL:https://visitchesham.org.uk/events/chesham-fringe-festival-2025/
LOCATION:Bucks
CATEGORIES:Chesham
ATTACH;FMTTYPE=image/jpeg:https://visitchesham.org.uk/wp-content/uploads/2023/11/IMG_0539-e1711554862706.jpeg
END:VEVENT
END:VCALENDAR