BEGIN:VCALENDAR
VERSION:2.0
PRODID:-//Visit Chesham and villages - official website - ECPv6.15.20//NONSGML v1.0//EN
CALSCALE:GREGORIAN
METHOD:PUBLISH
X-WR-CALNAME:Visit Chesham and villages - official website
X-ORIGINAL-URL:https://visitchesham.org.uk
X-WR-CALDESC:Events for Visit Chesham and villages - official website
REFRESH-INTERVAL;VALUE=DURATION:PT1H
X-Robots-Tag:noindex
X-PUBLISHED-TTL:PT1H
BEGIN:VTIMEZONE
TZID:Europe/London
BEGIN:DAYLIGHT
TZOFFSETFROM:+0000
TZOFFSETTO:+0100
TZNAME:BST
DTSTART:20240331T010000
END:DAYLIGHT
BEGIN:STANDARD
TZOFFSETFROM:+0100
TZOFFSETTO:+0000
TZNAME:GMT
DTSTART:20241027T010000
END:STANDARD
BEGIN:DAYLIGHT
TZOFFSETFROM:+0000
TZOFFSETTO:+0100
TZNAME:BST
DTSTART:20250330T010000
END:DAYLIGHT
BEGIN:STANDARD
TZOFFSETFROM:+0100
TZOFFSETTO:+0000
TZNAME:GMT
DTSTART:20251026T010000
END:STANDARD
BEGIN:DAYLIGHT
TZOFFSETFROM:+0000
TZOFFSETTO:+0100
TZNAME:BST
DTSTART:20260329T010000
END:DAYLIGHT
BEGIN:STANDARD
TZOFFSETFROM:+0100
TZOFFSETTO:+0000
TZNAME:GMT
DTSTART:20261025T010000
END:STANDARD
END:VTIMEZONE
BEGIN:VEVENT
DTSTART;TZID=Europe/London:20250521T110000
DTEND;TZID=Europe/London:20250521T140000
DTSTAMP:20260423T183742
CREATED:20250110T093218Z
LAST-MODIFIED:20250110T093636Z
UID:9151-1747825200-1747836000@visitchesham.org.uk
SUMMARY:Montana open garden – late spring
DESCRIPTION:Montana Open Garden in Cholesbury\nA National Gardens Scheme open garden on Wednesday 21 May\, 2025\, 11am–2pm. \nFrom the organiser: \n“A peaceful large woodland garden planted by the owner with rare and unusual flowering trees\, shrubs\, perennials and loads of bulbs. Shade loving herbaceous plants\, kitchen garden and meadow with apiary. Gate leads to old brickyard\, now 3 acre mixed deciduous wood: level paths\, large fernery planted in a clay pit\, acers and an avenue of thousands of daffodils. Lots of seats to enjoy the quiet.” \nTickets: Adult tickets £4\, children free. Refreshments available.\nPre-booking is essential. The email address to contact for booking is under the ‘Owner info’ tab on information about Montana garden open day \nMontana\nShire Lane\nCholesbury\,\nBuckinghamshire\nHP23 6NA \n  \n 
URL:https://visitchesham.org.uk/events/montana-open-garden-may-2025/
CATEGORIES:Villages
ATTACH;FMTTYPE=image/jpeg:https://visitchesham.org.uk/wp-content/uploads/2025/01/MONTANA-GARDEN-CHOLESBURY-event-image.jpg
END:VEVENT
END:VCALENDAR